{"text_format":"1","workbook":"xlsx","n_sheets":24,"sheets":["Rundholzpreise","Schnittholzpreise","Restholzpreise","Preise","Grafik","Rundholz-Index Fichte","Rundholz-Index Tanne","Schnittholz-Index","Bauholz-Index","Bauholz-Index (2)","Arbeitsmittel-Index","Palettenware-Index","Hackschnitzel-Index","Schwarten_Spreissel-Index","Sägespäne-Index","Hobelspäne-Index","Rinden-Index","Hackschnitzel_1","Hackschnitzel_2","Brennschnitzel","Schwarten_Spreissel","Sägespäne","Hobelspäne","Rinde"],"not_rendered":{"charts":43,"images":0,"macros":0,"external_links":0,"defined_names":3,"comments":0,"pivot_tables":0},"unopened":[{"sheet":"Rundholz-Index Fichte","index":5,"reason":"not_a_worksheet"},{"sheet":"Rundholz-Index Tanne","index":6,"reason":"not_a_worksheet"},{"sheet":"Schnittholz-Index","index":7,"reason":"not_a_worksheet"},{"sheet":"Bauholz-Index","index":8,"reason":"not_a_worksheet"},{"sheet":"Bauholz-Index (2)","index":9,"reason":"not_a_worksheet"},{"sheet":"Arbeitsmittel-Index","index":10,"reason":"not_a_worksheet"},{"sheet":"Palettenware-Index","index":11,"reason":"not_a_worksheet"},{"sheet":"Hackschnitzel-Index","index":12,"reason":"not_a_worksheet"},{"sheet":"Schwarten_Spreissel-Index","index":13,"reason":"not_a_worksheet"},{"sheet":"Sägespäne-Index","index":14,"reason":"not_a_worksheet"},{"sheet":"Hobelspäne-Index","index":15,"reason":"not_a_worksheet"},{"sheet":"Rinden-Index","index":16,"reason":"not_a_worksheet"},{"sheet":"Hackschnitzel_1","index":17,"reason":"not_a_worksheet"},{"sheet":"Hackschnitzel_2","index":18,"reason":"not_a_worksheet"},{"sheet":"Brennschnitzel","index":19,"reason":"not_a_worksheet"},{"sheet":"Schwarten_Spreissel","index":20,"reason":"not_a_worksheet"},{"sheet":"Sägespäne","index":21,"reason":"not_a_worksheet"},{"sheet":"Hobelspäne","index":22,"reason":"not_a_worksheet"},{"sheet":"Rinde","index":23,"reason":"not_a_worksheet"}],"bounds":{"document_bytes":16777216,"sheet_cells":100000,"rows_first":2000,"rows_last":500,"rows_between":2000,"halvings":0,"cell_chars":16384,"cell_head_chars":4096},"cells_cut":0,"cells_raw":0,"read":"whole","date_system":"1900"}

{"sheet":"Rundholzpreise","index":0,"n_rows":34,"n_cols":89,"rows_kept":34,"cut":false,"hidden":true,"merged":[]}
["Rundholzpreise"]
["(Durchschnittspreise, mengengewichtet, frei Waldstrasse)"]
[]
["Sortiment",null,null,null,"Gewichtung ","2007-1","2007-2","2007-3","2007-4","2007-5","2007-6","2008-1","2008-2","2008-3","2008-4","2008-5","2008-6","2009-1","2009-2","2009-3","2009-4","2009-5","2009-6","2010-1","2010-2","2010-3","2010-4","2010-5","2010-6","2011-1","2011-2","2011-3","2011-4","2011-5","2011-6","2012-1","2012-2","2012-3","2012-4","2012-5","2012-6","2013-1","2013-2","2013-3","2013-4","2013-5","2013-6","2014-1","2014-2","2014-3","2014-4","2014-5","2014-6","2015-1","2015-2","2015-3","2015-4","2015-5","2015-6","2016-1","2016-2","2016-3","2016-4","2016-5","2016-6","2017-1","2017-2","2017-3","2017-4","2017-5","2017-6","2018-1","2018-2","2018-3","2018-4","2018-5","2018-6","2019-1","2019-2","2019-3","2019-4","2019-5","2019-6","2020-1","2020-2","2020-3","2020-4","2020-5","2020-6"]
[null,null,null,null,"HIS Index","[Fr./fm]","[Fr./fm]","[Fr./fm]","[Fr./fm]","[Fr./fm]","[Fr./fm]","[Fr./fm]","[Fr./fm]","[Fr./fm]","[Fr./fm]","[Fr./fm]","[Fr./fm]","[Fr./fm]","[Fr./fm]","[Fr./fm]","[Fr./fm]","[Fr./fm]","[Fr./fm]","[Fr./fm]","[Fr./fm]","[Fr./fm]","[Fr./fm]","[Fr./fm]","[Fr./fm]","[Fr./Fm]","[Fr./Fm]","[Fr./Fm]","[Fr./Fm]","[Fr./Fm]","[Fr./Fm]","[Fr./Fm]","[Fr./Fm]","[Fr./Fm]","[Fr./Fm]","[Fr./Fm]","[Fr./Fm]","[Fr./Fm]","[Fr./Fm]","[Fr./Fm]","[Fr./Fm]","[Fr./Fm]","[Fr./Fm]","[Fr./Fm]","[Fr./Fm]","[Fr./Fm]","[Fr./Fm]","[Fr./Fm]","[Fr./Fm]","[Fr./Fm]","[Fr./Fm]","[Fr./Fm]","[Fr./Fm]","[Fr./Fm]","[Fr./Fm]","[Fr./Fm]","[Fr./Fm]","[Fr./Fm]","[Fr./Fm]","[Fr./Fm]","[Fr./Fm]","[Fr./Fm]","[Fr./Fm]","[Fr./Fm]","[Fr./Fm]","[Fr./Fm]","[Fr./Fm]","[Fr./Fm]","[Fr./Fm]","[Fr./Fm]","[Fr./Fm]","[Fr./Fm]","[Fr./Fm]","[Fr./Fm]","[Fr./Fm]","[Fr./Fm]","[Fr./Fm]","[Fr./Fm]","[Fr./Fm]","[Fr./Fm]","[Fr./Fm]","[Fr./Fm]","[Fr./Fm]","[Fr./Fm]","[Fr./Fm]"]
[]
["Fichte","L1",2,"B",20,114,114,113,110,115,117,120,119,118,115,116,115,115,112,108,105,106,108,111,108,110,111,116,114,117,115,113,112,106,104,104,104,103,103,103,102,103,104,105,106,110,108,108,108,108,109,108,107,104,98,96,96,96,97,98,98,97,97,97,97,97,97,96,99,100,99,98,98,99,99,98,98,97,97,98,98,97,97,97,97,96,90,89,89]
[null,null,2,"C",10,92,93,90,85,93,95,100,98,99,96,96,95,97,94,88,85,84,82,87,82,86,88,94,94,96,94,93,92,87,84,83,83,83,83,84,82,83,83,83,85,88,86,86,86,86,86,87,87,82,77,77,77,76,77,75,76,73,72,72,72,72,72,72,74,75,74,73,72,72,72,72,71,71,71,72,70,69,65,64,63,62,60,58,56]
[null,null,3,"B",20,118,118,114,113,115,122,122,120,120,118,117,117,116,114,110,108,108,108,113,109,111,115,118,117,119,117,114,114,106,105,104,104,104,103,104,102,103,104,104,106,108,109,109,109,109,109,109,109,103,98,96,96,96,96,97,96,95,95,95,95,95,95,94,96,96,95,94,95,95,95,94,94,94,94,94,93,93,91,91,92,89,88,87,83]
[null,null,3,"C",11,97,98,95,94,98,103,107,103,102,101,100,100,95,92,89,86,87,88,91,86,87,94,98,98,98,97,96,95,89,86,85,85,86,85,85,84,88,85,86,87,90,92,90,94,95,91,91,91,85,80,81,79,79,80,82,78,75,74,73,74,73,72,72,75,76,75,73,73,72,72,72,71,71,71,72,70,69,65,63,62,62,61,58,56]
[null,null,4,"B",9,118,119,114,109,115,123,124,122,120,120,119,120,116,114,112,111,111,108,115,110,115,117,119,120,121,117,119,117,107,106,105,104,105,104,106,105,106,107,108,109,109,112,110,112,112,110,110,109,102,100,99,99,98,100,100,99,97,97,98,99,98,98,97,97,98,98,100,98,98,99,98,98,96,97,98,99,98,99,96,95,94,89,88,88]
[null,null,4,"C",6,97,98,96,93,96,101,104,101,101,101,98,100,96,93,89,89,90,89,89,88,89,95,97,98,97,96,96,95,89,86,85,84,84,83,84,82,83,84,86,88,89,91,89,89,90,88,88,88,82,74,81,81,82,82,81,79,75,73,74,73,73,72,73,73,74,74,72,72,72,72,71,70,69,70,71,69,68,66,65,64,62,61,58,57]
[null,null,"2 - 4","B / C","-",null,null,null,null,null,null,null,null,null,null,null,null,null,null,null,null,null,null,null,null,null,null,null,null,null,null,null,null,null,null,null,null,null,null,null,null,null,null,null,null,null,null,null,null,null,null,null,null,null,null,null,null,null,null,null,null,null,null,null,null,null,null,null,null,null,null,89,90,88,86,85,86,88,87,85,83,82,83,82,82,80,77,79,77]
["Fichte","L1 + L2","5 + 6","B",3,120,118,115,108,111,125,128,124,120,128,129,132,132,120,112,110,112,114,128,121,123,122,122,112,127,132,143,128,116,124,118,115,111,113,120,124,122,120,119,122,118,119,117,124,126,120,117,120,114,108,106,107,107,104,108,111,107,109,112,116,113,115,112,109,107,111,109,108,110,109,105,104,106,110,104,106,105,105,110,106,105,102,101,200]
[null,null,"5 + 6","C",2,90,91,89,83,84,91,95,95,92,98,95,95,88,83,78,74,79,85,89,88,89,89,91,91,95,96,96,91,85,86,80,77,81,76,83,82,81,81,80,83,82,83,83,83,83,82,83,82,78,74,73,75,74,76,79,75,73,70,69,71,74,72,70,68,68,69,69,70,71,71,70,68,69,71,71,72,70,70,70,69,68,64,62,65]
["Fichte","L3","alle","B",9,119,121,116,112,119,122,121,122,118,117,117,115,119,116,109,107,108,109,110,109,114,113,114,112,114,113,110,110,112,108,106,106,105,105,101,101,102,102,106,108,111,112,112,112,115,108,109,111,111,107,93,96,94,95,92,93,92,92,91,92,93,91,92,93,93,94,98,97,97,98,97,96,95,92,93,92,93,92,94,94,92,90,89,92]
[null,null,"alle","C",6,99,98,95,88,91,97,103,103,96,98,98,98,97,95,86,84,87,90,93,92,97,97,99,97,99,95,96,95,92,87,86,87,86,87,85,85,85,85,86,88,88,89,91,90,91,89,89,88,88,87,81,83,81,82,81,81,81,81,81,81,81,81,82,81,81,81,81,79,81,80,77,78,79,78,77,76,76,73,72,71,70,68,67,70]
["Fichte","L1 bis L3","alle","D",4,64,64,65,65,69,70,71,72,69,69,67,68,62,61,61,60,62,62,59,62,65,67,69,67,69,68,67,67,64,64,62,61,61,60,57,57,57,57,57,59,60,60,62,60,62,62,60,62,59,55,54,56,53,54,54,53,55,55,53,51,49,48,49,50,49,50,50,49,52,51,55,49,46,47,46,45,42,41,37,37,35,36,35,39]
["Rundholz Fichte Index",null,null,null,{"$f":"SUM(E7:E18)","v":100},{"$f":"($E7*F7/$BF7+$E8*F8/$BF8+$E9*F9/$BF9+$E10*F10/$BF10+$E11*F11/$BF11+$E12*F12/$BF12+$E14*F14/$BF14+$E15*F15/$BF15+$E16*F16/$BF16+$E17*F17/$BF17+$E18*F18/$BF18)/$E19","v":1.2123327872223546},{"$f":"($E7*G7/$BF7+$E8*G8/$BF8+$E9*G9/$BF9+$E10*G10/$BF10+$E11*G11/$BF11+$E12*G12/$BF12+$E14*G14/$BF14+$E15*G15/$BF15+$E16*G16/$BF16+$E17*G17/$BF17+$E18*G18/$BF18)/$E19","v":1.2175747319063417},1.1853418289403976,1.1496509736261593,1.2010901786069057,1.2543278856194662,1.2820038597326837,1.2641114723495939,1.2469033592322381,1.2355355660300258,1.2289898007272775,1.2276534047607826,1.211308179116932,1.1789106959734368,1.1284453769808231,1.1031928385320244,1.1126856967799374,1.1174884185205434,1.1572616519873533,1.1221468782188209,1.1540454251854242,1.1833390981607916,1.2212591740435488,1.2089497013290369,1.2323771045914209,1.2126116232191428,1.2015212921929881,1.1878636227430008,1.1226320738048121,1.1001237708824576,1.0862132354158349,1.082897252205294,1.0813860894869172,1.0754556964980895,1.0777023503714593,1.0658978094365472,1.0787263893687637,1.0798051678460174,1.0896825720964645,1.1088960794551137,1.1324876621924038,1.1370249083645445,1.1333701166901327,1.1404889137565997,1.1482962889290522,1.1313737302792166,1.1294833480407571,1.1297360854240863,1.0802064173297767,1.0257056647767235,1.0035338857007075,1.0074332458157191,1,{"$f":"($E7*BG7/$BF7+$E8*BG8/$BF8+$E9*BG9/$BF9+$E10*BG10/$BF10+$E11*BG11/$BF11+$E12*BG12/$BF12+$E14*BG14/$BF14+$E15*BG15/$BF15+$E16*BG16/$BF16+$E17*BG17/$BF17+$E18*BG18/$BF18)/$E19","v":1.0087805861397832},1.0106880016402315,1.001931825787957,0.98376696283430443,{"$f":"($E7*BK7/$BF7+$E8*BK8/$BF8+$E9*BK9/$BF9+$E10*BK10/$BF10+$E11*BK11/$BF11+$E12*BK12/$BF12+$E14*BK14/$BF14+$E15*BK15/$BF15+$E16*BK16/$BF16+$E17*BK17/$BF17+$E18*BK18/$BF18)/$E19","v":0.97934529051592323},0.97770693057092628,{"$f":"($E7*BM7/$BF7+$E8*BM8/$BF8+$E9*BM9/$BF9+$E10*BM10/$BF10+$E11*BM11/$BF11+$E12*BM12/$BF12+$E14*BM14/$BF14+$E15*BM15/$BF15+$E16*BM16/$BF16+$E17*BM17/$BF17+$E18*BM18/$BF18)/$E19","v":0.9803960443779729},0.97750297412947296,{"$f":"($E7*BO7/$BF7+$E8*BO8/$BF8+$E9*BO9/$BF9+$E10*BO10/$BF10+$E11*BO11/$BF11+$E12*BO12/$BF12+$E14*BO14/$BF14+$E15*BO15/$BF15+$E16*BO16/$BF16+$E17*BO17/$BF17+$E18*BO18/$BF18)/$E19","v":0.97272945827396629},0.96944737407194981,{"$f":"($E7*BQ7/$BF7+$E8*BQ8/$BF8+$E9*BQ9/$BF9+$E10*BQ10/$BF10+$E11*BQ11/$BF11+$E12*BQ12/$BF12+$E14*BQ14/$BF14+$E15*BQ15/$BF15+$E16*BQ16/$BF16+$E17*BQ17/$BF17+$E18*BQ18/$BF18)/$E19","v":0.98626259588889253},0.99138873377852976,{"$f":"($E7*BS7/$BF7+$E8*BS8/$BF8+$E9*BS9/$BF9+$E10*BS10/$BF10+$E11*BS11/$BF11+$E12*BS12/$BF12+$E14*BS14/$BF14+$E15*BS15/$BF15+$E16*BS16/$BF16+$E17*BS17/$BF17+$E18*BS18/$BF18)/$E19","v":0.98761780196190363},0.98299289532519263,{"$f":"($E7*BU7/$BF7+$E8*BU8/$BF8+$E9*BU9/$BF9+$E10*BU10/$BF10+$E11*BU11/$BF11+$E12*BU12/$BF12+$E14*BU14/$BF14+$E15*BU15/$BF15+$E16*BU16/$BF16+$E17*BU17/$BF17+$E18*BU18/$BF18)/$E19","v":0.97871995565833469},0.9839875342870763,{"$f":"($E7*BW7/$BF7+$E8*BW8/$BF8+$E9*BW9/$BF9+$E10*BW10/$BF10+$E11*BW11/$BF11+$E12*BW12/$BF12+$E14*BW14/$BF14+$E15*BW15/$BF15+$E16*BW16/$BF16+$E17*BW17/$BF17+$E18*BW18/$BF18)/$E19","v":0.98408751688887708},0.9767182088546208,{"$f":"($E7*BY7/$BF7+$E8*BY8/$BF8+$E9*BY9/$BF9+$E10*BY10/$BF10+$E11*BY11/$BF11+$E12*BY12/$BF12+$E14*BY14/$BF14+$E15*BY15/$BF15+$E16*BY16/$BF16+$E17*BY17/$BF17+$E18*BY18/$BF18)/$E19","v":0.96771238467369369},0.96141077025206545,{"$f":"($E7*CA7/$BF7+$E8*CA8/$BF8+$E9*CA9/$BF9+$E10*CA10/$BF10+$E11*CA11/$BF11+$E12*CA12/$BF12+$E14*CA14/$BF14+$E15*CA15/$BF15+$E16*CA16/$BF16+$E17*CA17/$BF17+$E18*CA18/$BF18)/$E19","v":0.96186451659858008},0.96608586522888418,{"$f":"($E7*CC7/$BF7+$E8*CC8/$BF8+$E9*CC9/$BF9+$E10*CC10/$BF10+$E11*CC11/$BF11+$E12*CC12/$BF12+$E14*CC14/$BF14+$E15*CC15/$BF15+$E16*CC16/$BF16+$E17*CC17/$BF17+$E18*CC18/$BF18)/$E19","v":0.95641920893783094},0.94784998789630837,{"$f":"($E7*CE7/$BF7+$E8*CE8/$BF8+$E9*CE9/$BF9+$E10*CE10/$BF10+$E11*CE11/$BF11+$E12*CE12/$BF12+$E14*CE14/$BF14+$E15*CE15/$BF15+$E16*CE16/$BF16+$E17*CE17/$BF17+$E18*CE18/$BF18)/$E19","v":0.92837110978266779},{"$f":"($E7*CF7/$BF7+$E8*CF8/$BF8+$E9*CF9/$BF9+$E10*CF10/$BF10+$E11*CF11/$BF11+$E12*CF12/$BF12+$E14*CF14/$BF14+$E15*CF15/$BF15+$E16*CF16/$BF16+$E17*CF17/$BF17+$E18*CF18/$BF18)/$E19","v":0.9203408549351425},0.91593341272937479,0.89918679551920011,0.87069207342966137,0.85332930442489485,0.87552912542942518]
[null,null,null,null,"-",{"$f":"F19-1","v":0.2123327872223546},{"$f":"G19-1","v":0.21757473190634169},0.18534182894039763,0.14965097362615931,0.2010901786069057,0.25432788561946618,0.28200385973268371,0.26411147234959387,0.24690335923223805,0.23553556603002579,0.22898980072727748,0.22765340476078255,0.211308179116932,0.17891069597343678,0.12844537698082314,0.10319283853202443,0.11268569677993745,0.11748841852054337,0.15726165198735331,0.12214687821882086,0.15404542518542419,0.18333909816079164,0.22125917404354878,0.2089497013290369,0.23237710459142091,0.21261162321914284,0.20152129219298809,0.18786362274300084,0.12263207380481211,0.10012377088245761,8.6213235415834921E-2,8.2897252205293981E-2,8.1386089486917168E-2,7.5455696498089475E-2,7.7702350371459339E-2,{"$f":"AO19-1","v":6.5897809436547217E-2},{"$f":"AP19-1","v":7.8726389368763749E-2},{"$f":"AQ19-1","v":7.9805167846017433E-2},{"$f":"AR19-1","v":8.9682572096464463E-2},{"$f":"AS19-1","v":0.1088960794551137},{"$f":"AT19-1","v":0.13248766219240382},0.13702490836454451,{"$f":"AV19-1","v":0.13337011669013266},0.14048891375659966,{"$f":"AX19-1","v":0.14829628892905222},0.13137373027921662,0.12948334804075712,0.12973608542408632,8.0206417329776736E-2,{"$f":"BC19-1","v":2.5705664776723536E-2},3.5338857007074509E-3,7.4332458157191361E-3,{"$f":"BF19-1","v":0},8.7805861397831642E-3,{"$f":"BH19-1","v":1.0688001640231537E-2},1.9318257879570311E-3,{"$f":"BJ19-1","v":-1.6233037165695574E-2},-2.0654709484076772E-2,{"$f":"BL19-1","v":-2.229306942907372E-2},-1.9603955622027103E-2,{"$f":"BN19-1","v":-2.2497025870527043E-2},-2.7270541726033715E-2,{"$f":"BP19-1","v":-3.0552625928050192E-2},-1.3737404111107465E-2,-8.6112662214702373E-3,{"$f":"BS19-1","v":-1.238219803809637E-2},-1.7007104674807372E-2,{"$f":"BU19-1","v":-2.1280044341665305E-2},-1.6012465712923696E-2,{"$f":"BW19-1","v":-1.5912483111122921E-2},-2.3281791145379205E-2,{"$f":"BY19-1","v":-3.2287615326306307E-2},-3.858922974793455E-2,{"$f":"CA19-1","v":-3.8135483401419923E-2},-3.3914134771115823E-2,{"$f":"CC19-1","v":-4.3580791062169055E-2},-5.2150012103691634E-2,{"$f":"CE19-1","v":-7.1628890217332208E-2},-7.9659145064857495E-2,-8.4066587270625215E-2,-0.10081320448079989,{"$f":"CI19-1","v":-0.12930792657033863},-0.14667069557510515,{"$f":"CK19-1","v":-0.12447087457057482}]
["Tanne","L1",2,"B",14,96,96,93,89,95,99,99,99,98,97,97,96,97,95,91,90,88,87,91,89,91,94,98,98,97,94,93,92,88,84,85,85,85,85,85,84,85,85,86,88,91,93,93,93,93,94,94,93,89,83,82,82,82,84,84,83,83,82,84,84,82,83,82,83,85,83,84,83,84,83,83,82,82,82,83,82,78,76,75,76,75,73,74,71]
[null,null,2,"C",7,78,79,76,72,76,85,84,85,87,83,82,79,81,81,78,75,72,70,70,71,74,76,80,80,80,77,76,76,74,71,72,73,72,73,71,70,71,69,69,70,73,75,74,74,74,74,76,77,70,66,66,66,65,65,65,64,63,62,63,63,62,62,62,63,64,63,62,62,62,61,62,61,62,61,64,61,60,57,55,55,54,53,53,53]
[null,null,3,"B",19,100,100,95,90,96,100,100,100,100,100,98,99,97,94,90,90,89,90,92,88,90,95,99,99,98,97,96,95,90,87,87,87,87,87,87,86,87,87,88,90,92,94,94,96,96,94,92,94,90,85,87,83,83,83,80,82,82,82,82,82,82,81,80,81,83,82,82,81,81,82,82,81,81,80,81,81,79,76,74,74,73,73,71,71]
[null,null,3,"C",10,82,84,80,76,81,89,91,88,89,88,88,86,84,81,78,75,76,76,76,73,74,77,80,78,77,77,76,75,74,71,70,69,70,69,70,71,70,70,71,71,73,75,75,78,80,78,79,80,73,72,73,70,69,70,72,71,73,68,62,67,68,68,68,65,65,66,68,65,63,61,63,61,61,62,62,61,60,61,60,60,60,57,57,53]
[null,null,4,"B",11,98,99,95,90,95,101,102,102,98,98,97,96,94,93,92,91,92,92,93,89,90,95,99,98,98,96,96,96,91,89,88,89,88,88,87,88,90,90,90,92,93,95,94,94,95,95,94,93,89,86,87,86,85,85,84,83,82,83,83,83,82,82,82,82,83,83,83,84,84,83,83,82,84,83,85,83,83,81,81,81,81,79,79,78]
[null,null,4,"C",9,84,85,84,79,78,88,91,89,88,86,85,84,82,80,78,77,77,78,75,74,77,76,78,76,77,76,76,75,71,69,69,68,69,68,69,69,68,68,69,70,73,75,76,75,76,75,75,78,71,69,71,72,71,71,70,65,63,63,63,63,61,60,61,63,61,62,61,63,63,62,61,60,60,61,61,60,59,58,60,58,58,55,55,53]
[null,null,"2 - 4","B / C",null,null,null,null,null,null,null,null,null,null,null,null,null,null,null,null,null,null,null,null,null,null,null,null,null,null,null,null,null,null,null,null,null,null,null,null,null,null,null,null,null,null,null,null,null,null,null,null,null,null,null,null,null,null,null,null,null,null,null,null,null,null,null,null,null,null,null,74,76,74,72,73,73,70,70,70,69,67,65,64,64,64,62,64,61]
["Tanne","L1 + L2","5 + 6","B",9,108,109,107,103,99,104,108,103,101,108,109,110,105,104,102,102,104,102,106,100,101,107,108,108,105,105,108,101,92,96,93,92,89,92,98,102,99,96,97,100,97,95,97,97,99,97,95,99,92,90,92,90,91,89,92,92,91,92,91,94,98,95,94,93,93,93,92,93,92,93,90,90,88,91,91,89,89,92,93,91,91,88,88,90]
[null,null,"5 + 6","C",9,87,89,87,83,80,85,90,87,84,89,86,85,80,77,76,73,76,78,78,75,77,77,79,77,78,79,80,77,70,74,70,68,67,66,66,68,67,67,66,67,68,68,66,67,67,70,70,72,66,69,64,63,64,63,64,64,63,62,61,64,66,65,63,62,61,62,60,63,62,64,60,61,61,65,63,62,62,61,59,60,60,58,57,60]
["Tanne","L3","alle","B",6,101,102,100,94,99,103,103,103,101,99,98,102,102,101,94,92,92,94,98,96,97,96,98,97,97,96,95,93,98,93,89,89,89,88,88,87,90,88,89,91,93,92,94,94,94,93,92,94,93,91,88,84,82,82,77,81,81,80,81,81,81,81,81,80,80,81,83,84,83,83,82,83,80,78,80,78,79,76,76,75,77,78,75,73]
[null,null,"alle","C",3,84,84,82,81,86,89,90,90,86,85,86,86,89,84,77,74,75,77,81,80,82,81,85,83,84,83,83,83,87,80,75,75,75,76,74,73,74,75,74,76,75,78,80,78,80,80,79,79,77,77,74,76,75,74,70,72,73,73,74,73,72,72,74,72,73,72,71,72,74,76,73,74,72,70,69,70,67,66,65,64,62,62,62,60]
["Tanne","L1 bis L3","alle","D",3,64,63,63,63,65,67,70,71,67,67,67,68,62,61,60,59,60,59,58,62,65,67,69,66,67,68,67,67,60,61,61,60,61,60,56,56,57,56,57,59,59,60,60,60,61,61,59,62,59,55,54,53,52,54,53,56,55,54,52,51,49,47,49,49,49,50,49,48,51,50,55,49,46,46,46,43,42,40,37,37,35,36,35,33]
["Rundholz Tanne Index",null,null,null,{"$f":"SUM(E21:E32)","v":100},{"$f":"($E21*F21/$BF21+$E22*F22/$BF22+$E23*F23/$BF23+$E24*F24/$BF24+$E25*F25/$BF25+$E26*F26/$BF26+$E28*F28/$BF28+$E29*F29/$BF29+$E30*F30/$BF30+$E31*F31/$BF31+$E32*F32/$BF32)/$E33","v":1.202543536796993},{"$f":"($E21*G21/$BF21+$E22*G22/$BF22+$E23*G23/$BF23+$E24*G24/$BF24+$E25*G25/$BF25+$E26*G26/$BF26+$E28*G28/$BF28+$E29*G29/$BF29+$E30*G30/$BF30+$E31*G31/$BF31+$E32*G32/$BF32)/$E33","v":1.2130370291085766},1.1739434112422829,1.1183836617973109,1.1577571444993175,1.2327272924764578,1.2527639178594527,1.2383709217136818,1.2222547710147775,1.2243461872929207,1.2125677813540616,1.2075450910053551,1.1845681002864059,1.157592449875918,1.1183154845703633,1.0990087611875359,1.099991289248242,1.1022078578607351,1.1190126902994937,1.0870179121545371,1.1118518262322992,1.1460804201974741,1.1864522870236747,1.1736494308365299,1.1688874275182273,1.1552411752733693,1.1517831557074873,1.1324645594544658,1.0815206018883878,1.0588212522843388,1.0453432371897293,1.0406189628516556,1.0371684432336856,1.0361806378875236,1.0382759287091137,1.0415827615808624,1.0453262747165677,1.0385650578846193,1.0457698039634249,1.0664860591226475,1.0869152097661594,1.1041511943875479,1.1044766959095371,1.1127414796157031,1.1215566986761474,1.1160285668427703,1.1094956820099231,1.1273643037043155,1.061022256335141,1.0256276599649323,1.0247519873716362,1.005132998442162,1,1.0022334836844844,0.99424066455348648,0.99241091497707468,0.98783102964419089,{"$f":"($E21*BK21/$BF21+$E22*BK22/$BF22+$E23*BK23/$BF23+$E24*BK24/$BF24+$E25*BK25/$BF25+$E26*BK26/$BF26+$E28*BK28/$BF28+$E29*BK29/$BF29+$E30*BK30/$BF30+$E31*BK31/$BF31+$E32*BK32/$BF32)/$E33","v":0.97736866092457664},0.97074716614814394,{"$f":"($E21*BM21/$BF21+$E22*BM22/$BF22+$E23*BM23/$BF23+$E24*BM24/$BF24+$E25*BM25/$BF25+$E26*BM26/$BF26+$E28*BM28/$BF28+$E29*BM29/$BF29+$E30*BM30/$BF30+$E31*BM31/$BF31+$E32*BM32/$BF32)/$E33","v":0.98420240284984817},0.98254548987643575,{"$f":"($E21*BO21/$BF21+$E22*BO22/$BF22+$E23*BO23/$BF23+$E24*BO24/$BF24+$E25*BO25/$BF25+$E26*BO26/$BF26+$E28*BO28/$BF28+$E29*BO29/$BF29+$E30*BO30/$BF30+$E31*BO31/$BF31+$E32*BO32/$BF32)/$E33","v":0.97516891556841856},0.97059238266737968,{"$f":"($E21*BQ21/$BF21+$E22*BQ22/$BF22+$E23*BQ23/$BF23+$E24*BQ24/$BF24+$E25*BQ25/$BF25+$E26*BQ26/$BF26+$E28*BQ28/$BF28+$E29*BQ29/$BF29+$E30*BQ30/$BF30+$E31*BQ31/$BF31+$E32*BQ32/$BF32)/$E33","v":0.96992619631854471},0.97674872317427441,{"$f":"($E21*BS21/$BF21+$E22*BS22/$BF22+$E23*BS23/$BF23+$E24*BS24/$BF24+$E25*BS25/$BF25+$E26*BS26/$BF26+$E28*BS28/$BF28+$E29*BS29/$BF29+$E30*BS30/$BF30+$E31*BS31/$BF31+$E32*BS32/$BF32)/$E33","v":0.97499977071462174},0.97394609036991653,{"$f":"($E21*BU21/$BF21+$E22*BU22/$BF22+$E23*BU23/$BF23+$E24*BU24/$BF24+$E25*BU25/$BF25+$E26*BU26/$BF26+$E28*BU28/$BF28+$E29*BU29/$BF29+$E30*BU30/$BF30+$E31*BU31/$BF31+$E32*BU32/$BF32)/$E33","v":0.97519366472710867},0.97340623200032683,{"$f":"($E21*BW21/$BF21+$E22*BW22/$BF22+$E23*BW23/$BF23+$E24*BW24/$BF24+$E25*BW25/$BF25+$E26*BW26/$BF26+$E28*BW28/$BF28+$E29*BW29/$BF29+$E30*BW30/$BF30+$E31*BW31/$BF31+$E32*BW32/$BF32)/$E33","v":0.97147546238332783},0.96654420565159482,{"$f":"($E21*BY21/$BF21+$E22*BY22/$BF22+$E23*BY23/$BF23+$E24*BY24/$BF24+$E25*BY25/$BF25+$E26*BY26/$BF26+$E28*BY28/$BF28+$E29*BY29/$BF29+$E30*BY30/$BF30+$E31*BY31/$BF31+$E32*BY32/$BF32)/$E33","v":0.95508695372503061},0.95204819893606041,{"$f":"($E21*CA21/$BF21+$E22*CA22/$BF22+$E23*CA23/$BF23+$E24*CA24/$BF24+$E25*CA25/$BF25+$E26*CA26/$BF26+$E28*CA28/$BF28+$E29*CA29/$BF29+$E30*CA30/$BF30+$E31*CA31/$BF31+$E32*CA32/$BF32)/$E33","v":0.95643350091458079},0.96449989377329093,{"$f":"($E21*CC21/$BF21+$E22*CC22/$BF22+$E23*CC23/$BF23+$E24*CC24/$BF24+$E25*CC25/$BF25+$E26*CC26/$BF26+$E28*CC28/$BF28+$E29*CC29/$BF29+$E30*CC30/$BF30+$E31*CC31/$BF31+$E32*CC32/$BF32)/$E33","v":0.94807823533617386},0.93183163395758428,{"$f":"($E21*CE21/$BF21+$E22*CE22/$BF22+$E23*CE23/$BF23+$E24*CE24/$BF24+$E25*CE25/$BF25+$E26*CE26/$BF26+$E28*CE28/$BF28+$E29*CE29/$BF29+$E30*CE30/$BF30+$E31*CE31/$BF31+$E32*CE32/$BF32)/$E33","v":0.91372400999732117},0.90241621118082094,{"$f":"($E21*CG21/$BF21+$E22*CG22/$BF22+$E23*CG23/$BF23+$E24*CG24/$BF24+$E25*CG25/$BF25+$E26*CG26/$BF26+$E28*CG28/$BF28+$E29*CG29/$BF29+$E30*CG30/$BF30+$E31*CG31/$BF31+$E32*CG32/$BF32)/$E33","v":0.89988483769129091},0.89432100939499137,{"$f":"($E21*CI21/$BF21+$E22*CI22/$BF22+$E23*CI23/$BF23+$E24*CI24/$BF24+$E25*CI25/$BF25+$E26*CI26/$BF26+$E28*CI28/$BF28+$E29*CI29/$BF29+$E30*CI30/$BF30+$E31*CI31/$BF31+$E32*CI32/$BF32)/$E33","v":0.87461967131620744},0.8675703801082234,{"$f":"($E21*CK21/$BF21+$E22*CK22/$BF22+$E23*CK23/$BF23+$E24*CK24/$BF24+$E25*CK25/$BF25+$E26*CK26/$BF26+$E28*CK28/$BF28+$E29*CK29/$BF29+$E30*CK30/$BF30+$E31*CK31/$BF31+$E32*CK32/$BF32)/$E33","v":0.85560150971480098}]
[null,null,null,null,null,{"$f":"F33-1","v":0.202543536796993},{"$f":"G33-1","v":0.21303702910857658},0.17394341124228285,0.11838366179731086,0.15775714449931755,0.23272729247645785,0.25276391785945274,0.23837092171368179,0.22225477101477753,0.22434618729292066,0.21256778135406162,0.20754509100535512,0.18456810028640591,0.15759244987591803,0.11831548457036334,9.9008761187535876E-2,9.9991289248241966E-2,0.10220785786073505,0.11901269029949368,8.7017912154537136E-2,0.11185182623229917,0.14608042019747414,0.18645228702367467,0.17364943083652995,0.16888742751822727,0.15524117527336934,0.15178315570748735,0.13246455945446578,8.1520601888387834E-2,5.8821252284338765E-2,4.5343237189729324E-2,4.061896285165556E-2,3.7168443233685622E-2,3.618063788752357E-2,3.8275928709113671E-2,{"$f":"AO33-1","v":4.1582761580862382E-2},{"$f":"AP33-1","v":4.5326274716567694E-2},{"$f":"AQ33-1","v":3.856505788461928E-2},{"$f":"AR33-1","v":4.5769803963424893E-2},{"$f":"AS33-1","v":6.648605912264749E-2},{"$f":"AT33-1","v":8.6915209766159407E-2},0.10415119438754794,{"$f":"AV33-1","v":0.10447669590953712},0.11274147961570313,{"$f":"AX33-1","v":0.12155669867614738},0.1160285668427703,0.1094956820099231,0.12736430370431551,6.1022256335141023E-2,{"$f":"BC33-1","v":2.5627659964932326E-2},2.4751987371636197E-2,5.1329984421619734E-3,{"$f":"BF33-1","v":0},2.2334836844843942E-3,{"$f":"BH33-1","v":-5.7593354465135249E-3},-7.5890850229253237E-3,{"$f":"BJ33-1","v":-1.2168970355809106E-2},-2.2631339075423362E-2,{"$f":"BL33-1","v":-2.9252833851856064E-2},-1.5797597150151832E-2,{"$f":"BN33-1","v":-1.7454510123564249E-2},-2.4831084431581441E-2,{"$f":"BP33-1","v":-2.9407617332620317E-2},-3.0073803681455291E-2,-2.3251276825725586E-2,{"$f":"BS33-1","v":-2.5000229285378262E-2},-2.6053909630083472E-2,{"$f":"BU33-1","v":-2.4806335272891333E-2},-2.6593767999673168E-2,{"$f":"BW33-1","v":-2.8524537616672174E-2},-3.3455794348405177E-2,{"$f":"BY33-1","v":-4.4913046274969393E-2},-4.7951801063939592E-2,{"$f":"CA33-1","v":-4.3566499085419208E-2},-3.5500106226709072E-2,{"$f":"CC33-1","v":-5.1921764663826142E-2},-6.8168366042415718E-2,{"$f":"CE33-1","v":-8.6275990002678826E-2},-9.7583788819179063E-2,{"$f":"CG33-1","v":-0.10011516230870909},-0.10567899060500863,{"$f":"CI33-1","v":-0.12538032868379256},-0.1324296198917766,{"$f":"CK33-1","v":-0.14439849028519902}]

{"sheet":"Schnittholzpreise","index":1,"n_rows":52,"n_cols":87,"rows_kept":52,"cut":false,"hidden":true,"merged":[[50,0,50,1],[39,0,39,1],[40,0,40,1],[41,0,41,1],[42,0,42,1],[51,0,51,1],[17,0,17,1],[43,0,43,1],[47,0,47,1],[13,0,13,1],[14,0,14,1],[15,0,15,1],[16,0,16,1],[22,0,22,1],[23,0,23,1],[24,0,24,1],[25,0,25,1],[26,0,26,1],[32,0,32,1],[48,0,48,1],[49,0,49,1]]}
["Nadel - Schnittholzpreise"]
["(Durchschnittspreise, mengengewichtet, ab Werk)",null,null,null,null,null,null,null,null,null,null,null,null,null,null,null,null,null,null,null,null,null,null,null,null,null,null,null,null,null,null,null,null,null,null,null,null,null,null,null,null,null,null,null,null,null,null,null,null,null,null,null,null,null,"Klotzbretter und Kanteln nicht analog BFS gerechnet <<"]
[null,null,null,null,null,null,null,null,null,null,null,null,null,null,null,null,null,null,null,null,null,null,null,null,null,null,null,null,null,null,null,null,null,null,null,null,null,null,null,null,null,null,null,null,null,null,null,null,null,null,null,null,null,null,"alte Werte analog vorgaben BFS mit Dreisatz umgerechnet <<",">> Neue Basis 100% und neue Gewichtung"]
["Sortiment",null,"Gewichtung ","2007-1","2007-2","2007-3","2007-4","2007-5","2007-6","2008-1","2008-2","2008-3","2008-4","2008-5","2008-6","2009-1","2009-2","2009-3","2009-4","2009-5","2009-6","2010-1","2010-2","2010-3","2010-4","2010-5","2010-6","2011-1","2011-2","2011-3","2011-4","2011-5","2011-6","2012-1","2012-2","2012-3","2012-4","2012-5","2012-6","2013-1","2013-2","2013-3","2013-4","2013-5","2013-6","2014-1","2014-2","2014-3","2014-4","2014-5","2014-6","2015-1","2015-2","2015-3","2015-4","2015-5","2015-6","2016-1","2016-2","2016-3","2016-4","2016-5","2016-6","2017-1","2017-2","2017-3","2017-4","2017-5","2017-6","2018-1","2018-2","2018-3","2018-4","2018-5","2018-6","2019-1","2019-2","2019-3","2019-4","2019-5","2019-6","2020-1","2020-2","2020-3","2020-4","2020-5","2020-6"]
["(Falls keine Angaben alle Schnitthölzer FI/TA)",null,"BfS Index","[Fr./m3]","[Fr./m3]","[Fr./m3]","[Fr./m3]","[Fr./m3]","[Fr./m3]","[Fr./m3]","[Fr./m3]","[Fr./m3]","[Fr./m3]","[Fr./m3]","[Fr./m3]","[Fr./m3]","[Fr./m3]","[Fr./m3]","[Fr./m3]","[Fr./m3]","[Fr./m3]","[Fr./m3]","[Fr./m3]","[Fr./m3]","[Fr./m3]","[Fr./m3]","[Fr./m3]","[Fr./m3]","[Fr./m3]","[Fr./m3]","[Fr./m3]","[Fr./m3]","[Fr./m3]","[Fr./m3]","[Fr./m3]","[Fr./m3]","[Fr./m3]","[Fr./m3]","[Fr./m3]","[Fr./m3]","[Fr./m3]","[Fr./m3]","[Fr./m3]","[Fr./m3]","[Fr./m3]","[Fr./m3]","[Fr./m3]","[Fr./m3]","[Fr./m3]","[Fr./m3]","[Fr./m3]","[Fr./m3]","[Fr./m3]","[Fr./m3]","[Fr./m3]","[Fr./m3]","[Fr./m3]","[Fr./m3]","[Fr./m3]","[Fr./m3]","[Fr./m3]","[Fr./m3]","[Fr./m3]","[Fr./m3]","[Fr./m3]","[Fr./m3]","[Fr./m3]","[Fr./m3]","[Fr./m3]","[Fr./m3]","[Fr./m3]","[Fr./m3]","[Fr./m3]","[Fr./m3]","[Fr./m3]","[Fr./m3]","[Fr./m3]","[Fr./m3]","[Fr./m3]","[Fr./m3]","[Fr./m3]","[Fr./m3]","[Fr./m3]","[Fr./m3]","[Fr./m3]","[Fr./m3]","[Fr./m3]"]
[]
["Vollholz","C24, N, \nbis 8m, herzgetrennt, frisch",11,401,406,419,417,409,406,412,412,416,407,408,407,398,406,405,407,408,407,410,406,408,402,403,408,407,408,406,404,402,400,399,398,397,394,400,401,395,402,398,401,402,398,397,399,401,399,405,407,398,387,386,391,394,387,386,389,390,392,386,390,390,395,399,401,405,398,403,398,402,403,412,396,388,392,394,388,381,384,385,387,387,384,385,388]
["keilgezinktes Vollholz","C24, I, \ntechnisch getrocknet",0,590,578,578,573,553,517,472,472,508,514,523,514,515,508,502,502,495,494,489,498,520,515,510,500,501,502,482,474,458,469,471,474,472,465,474,470,479,480,483,479,482,481,478,481,482,488,482,479,474,469,474,493,488,487,487,487,478,476,468,471,467,470,468,469,469,467,465,466,474,480,485,491,489,492,497,494,495,486,487,485,485,487,490,501]
["schichtverleimtes VH","C24, I, \ntechnisch getrocknet",0,606,621,664,641,639,620,605,595,626,631,634,624,591,581,541,538,554,562,561,551,562,557,563,561,563,570,562,564,552,554,532,542,534,532,537,524,526,527,523,525,529,531,528,530,539,542,539,543,505,502,506,513,513,511,508,508,519,524,511,517,507,508,507,512,515,532,525,524,531,529,529,534,526,533,538,534,536,531,535,536,542,535,534,537]
["Dachlatten","lufttrocken",11,403,409,406,399,396,398,387,388,388,382,387,392,380,382,370,374,380,384,375,372,378,378,379,381,376,371,376,374,370,372,379,368,375,371,373,371,365,367,367,366,370,375,372,380,376,370,372,376,372,365,364,365,364,369,372,364,368,368,369,370,371,369,368,371,372,368,369,371,369,365,368,368,372,371,365,372,374,369,372,372,366,363,363,367]
["Doppellatten","lufttrocken",11,395,414,416,405,401,405,392,395,397,384,387,393,380,373,374,375,383,381,381,378,382,382,381,380,380,375,380,378,375,376,386,373,374,374,377,374,371,376,373,377,378,381,377,380,379,375,374,379,373,365,365,369,365,369,373,362,367,364,367,373,375,372,368,372,370,366,368,372,373,368,369,375,370,369,370,371,371,366,370,369,361,360,360,365]
["BSH-Lamellen","C24, N, \ntechnisch getrocknet",9,340,348,351,348,347,346,335,332,333,335,333,332,325,317,323,325,328,327,326,327,329,334,336,336,333,322,318,313,306,309,305,307,306,305,292,291,291,307,305,307,306,310,314,317,314,292,290,293,290,284,286,283,282,282,289,297,304,303,306,309,310,311,305,307,300,302,300,300,305,303,305,306,308,307,308,309,306,303,306,303,286,285,288,293]
[null,"C24, I, \ntechnisch getrocknet",8,304,315,317,315,310,303,300,294,290,284,284,292,278,265,273,279,280,278,274,278,283,288,288,287,282,276,277,268,261,261,268,259,253,261,256,254,250,249,255,260,260,266,269,267,266,266,265,267,262,258,254,254,253,253,255,252,253,255,250,251,258,258,257,258,259,259,262,263,268,264,267,265,263,266,263,263,256,253,246,246,240,240,242,249]
["Index Bauholz (ohne verleimtes Vollholz)",null,{"$f":"SUM(C7:C13)","v":50},{"$f":"ROUND(D15*$BD14/$BD15,4)","v":110.08280000000001},112.83329999999999,114.21129999999999,112.86199999999999,111.4956,111.1027,109.63809999999999,109.3441,109.6413,107.7063,108.06229999999999,108.8843,105.7179,104.9823,105.1703,106.0177,107.0254,106.85469999999999,106.4278,106.05759999999999,107.09950000000001,107.1373,107.3361,107.7585,106.998,105.6302,105.7647,104.6223,103.32470000000001,103.471,104.36320000000001,102.73309999999999,{"$f":"ROUND(AJ15*$BD14/$BD15,4)","v":102.6434},102.56480000000001,102.30540000000001,101.9794,100.812,102.6575,102.3566,103.1617,103.4267,104.0194,103.9812,104.74979999999999,104.45780000000001,102.5086,102.90049999999999,103.80070000000001,102.08029999999999,99.820999999999998,99.592100000000002,{"$f":"ROUND(BC15*$BD14/$BD15,4)","v":100.10420000000001},100,{"$f":"ROUND(($C7*BE7/$BD7+$C8*BE8/$BD8+$C9*BE9/$BD9+$C10*BE10/$BD10+$C11*BE11/$BD11+$C12*BE12/$BD12+$C13*BE13/$BD13)/$C14*100,4)","v":100.1524},101.09229999999999,100.4342,101.5432,101.5367,101.3182,102.2184,{"$f":"ROUND(($C7*BL7/$BD7+$C8*BL8/$BD8+$C9*BL9/$BD9+$C10*BL10/$BD10+$C11*BL11/$BD11+$C12*BL12/$BD12+$C13*BL13/$BD13)/$C14*100,4)","v":102.9059},102.9472,{"$f":"ROUND(($C7*BN7/$BD7+$C8*BN8/$BD8+$C9*BN9/$BD9+$C10*BN10/$BD10+$C11*BN11/$BD11+$C12*BN12/$BD12+$C13*BN13/$BD13)/$C14*100,4)","v":102.4228},103.1478,102.92749999999999,{"$f":"ROUND(($C7*BQ7/$BD7+$C8*BQ8/$BD8+$C9*BQ9/$BD9+$C10*BQ10/$BD10+$C11*BQ11/$BD11+$C12*BQ12/$BD12+$C13*BQ13/$BD13)/$C14*100,4)","v":102.1814},102.7037,{"$f":"ROUND(($C7*BS7/$BD7+$C8*BS8/$BD8+$C9*BS9/$BD9+$C10*BS10/$BD10+$C11*BS11/$BD11+$C12*BS12/$BD12+$C13*BS13/$BD13)/$C14*100,4)","v":102.8497},103.6478,{"$f":"ROUND(($C7*BU7/$BD7+$C8*BU8/$BD8+$C9*BU9/$BD9+$C10*BU10/$BD10+$C11*BU11/$BD11+$C12*BU12/$BD12+$C13*BU13/$BD13)/$C14*100,4)","v":102.7799},103.84139999999999,{"$f":"ROUND(($C7*BW7/$BD7+$C8*BW8/$BD8+$C9*BW9/$BD9+$C10*BW10/$BD10+$C11*BW11/$BD11+$C12*BW12/$BD12+$C13*BW13/$BD13)/$C14*100,4)","v":103.247},102.7418,{"$f":"ROUND(($C7*BY7/$BD7+$C8*BY8/$BD8+$C9*BY9/$BD9+$C10*BY10/$BD10+$C11*BY11/$BD11+$C12*BY12/$BD12+$C13*BY13/$BD13)/$C14*100,4)","v":102.9704},102.6538,{"$f":"ROUND(($C7*CA7/$BD7+$C8*CA8/$BD8+$C9*CA9/$BD9+$C10*CA10/$BD10+$C11*CA11/$BD11+$C12*CA12/$BD12+$C13*CA13/$BD13)/$C14*100,4)","v":102.866},101.9618,{"$f":"ROUND(($C7*CC7/$BD7+$C8*CC8/$BD8+$C9*CC9/$BD9+$C10*CC10/$BD10+$C11*CC11/$BD11+$C12*CC12/$BD12+$C13*CC13/$BD13)/$C14*100,4)","v":101.14449999999999},101.3716,{"$f":"ROUND(($C7*CE7/$BD7+$C8*CE8/$BD8+$C9*CE9/$BD9+$C10*CE10/$BD10+$C11*CE11/$BD11+$C12*CE12/$BD12+$C13*CE13/$BD13)/$C14*100,4)","v":101.2315},98.9221,{"$f":"ROUND(($C7*CG7/$BD7+$C8*CG8/$BD8+$C9*CG9/$BD9+$C10*CG10/$BD10+$C11*CG11/$BD11+$C12*CG12/$BD12+$C13*CG13/$BD13)/$C14*100,4)","v":98.449200000000005},98.822999999999993,{"$f":"ROUND(($C7*CI7/$BD7+$C8*CI8/$BD8+$C9*CI9/$BD9+$C10*CI10/$BD10+$C11*CI11/$BD11+$C12*CI12/$BD12+$C13*CI13/$BD13)/$C14*100,4)","v":100.2955}]
["Index Bauholz (ohne verleimtes Vollholz) alte Basis",null,null,102.559,105.1215,106.4053,105.1482,103.87520000000001,103.50920000000001,102.1447,101.8708,102.1476,100.3449,100.67659999999999,101.44240000000001,98.492400000000004,97.807100000000005,97.982200000000006,98.771699999999996,99.710499999999996,99.551500000000004,99.153800000000004,98.808899999999994,99.779600000000002,99.814800000000005,100,100.3935,99.685000000000002,98.410700000000006,98.536000000000001,97.471699999999998,96.262799999999999,96.399100000000004,97.2303,95.711600000000004,95.628,95.5548,95.313100000000006,95.009399999999999,93.921800000000005,95.641199999999998,95.360799999999998,96.110900000000001,96.357799999999997,96.91,96.874399999999994,97.590500000000006,97.318399999999997,95.502399999999994,95.867599999999996,96.706199999999995,95.103399999999993,92.998500000000007,92.785300000000007,93.2624,93.165300000000002]
["Index Bauholz (ohne verleimtes Vollholz) Internet BFS",null,null,null,null,null,null,null,null,null,null,null,null,null,null,null,null,null,null,null,null,null,null,null,null,107.3361,null,106.998,105.6302,105.7647,104.6223,103.32470000000001,103.471,104.36320000000001,102.73309999999999,102.6434,102.56480000000001,102.30540000000001,101.9794,100.812,102.6575,102.3566,103.1617,103.4267,104.0194,103.9812,104.74979999999999,104.45780000000001,102.5086,102.90049999999999,103.80070000000001,102.08029999999999,99.820999999999998,99.592100000000002,100.10420000000001,100,100.1524,101.09229999999999,100.4342,101.5432,101.5367,101.3182,102.2184,102.9059,102.9472,102.4228,103.1478,102.92749999999999,102.1814,102.7037,102.8497,103.6478,102.7799,103.84139999999999,103.247,102.7418,102.9704,102.6538,102.8659,101.9618,101.14449999999999,101.3716,101.2315,98.9221,98.449200000000005]
["Kontrolle",null,null,null,null,null,null,null,null,null,null,null,null,null,null,null,null,null,null,null,null,null,null,null,null,{"$f":"Z14-Z16","v":0},null,0,0,0,0,0,0,0,0,0,0,{"$f":"AL14-AL16","v":0},{"$f":"AM14-AM16","v":0},0,0,0,0,0,0,0,0,0,0,0,0,0,0,0,{"$f":"BC14-BC16","v":0},0,0,0,0,0,{"$f":"BI14-BI16","v":0},0,{"$f":"BK14-BK16","v":0},0,{"$f":"BM14-BM16","v":0},0,{"$f":"BO14-BO16","v":0},0,{"$f":"BQ14-BQ16","v":0},0,{"$f":"BS14-BS16","v":0},0,{"$f":"BU14-BU16","v":0},0,{"$f":"BW14-BW16","v":0},0,{"$f":"BY14-BY16","v":0},0,{"$f":"CA14-CA16","v":1.0000000000331966E-4},0,{"$f":"CC14-CC16","v":0},0,{"$f":"CE14-CE16","v":0},0,{"$f":"CG14-CG16","v":0},98.822999999999993,{"$f":"CI14-CI16","v":100.2955}]
["Index Bauholz (ohne verleimtes Vollholz)",null,{"$f":"SUM(C7:C13)","v":50},{"$f":"(D$14-100)/100","v":0.10082800000000006},{"$f":"(E$14-100)/100","v":0.12833299999999995},0.14211299999999993,0.12861999999999996,0.11495599999999996,0.11102699999999999,9.6380999999999939E-2,9.3440999999999969E-2,9.6413000000000013E-2,7.7062999999999993E-2,8.0622999999999931E-2,8.8842999999999964E-2,5.7179000000000001E-2,4.9822999999999951E-2,5.1702999999999971E-2,6.017700000000005E-2,7.0254000000000053E-2,6.8546999999999941E-2,6.4278000000000043E-2,6.0575999999999935E-2,7.0995000000000058E-2,7.1372999999999964E-2,7.3361000000000023E-2,7.7584999999999973E-2,6.9980000000000042E-2,5.6302000000000019E-2,5.7647000000000045E-2,4.6222999999999959E-2,3.3247000000000068E-2,3.4710000000000039E-2,4.363200000000006E-2,2.7330999999999932E-2,2.6433999999999999E-2,2.5648000000000053E-2,2.3054000000000061E-2,1.9793999999999982E-2,8.1199999999999762E-3,2.6574999999999988E-2,2.3566000000000004E-2,3.1616999999999965E-2,3.4266999999999964E-2,4.0194000000000042E-2,3.9812000000000014E-2,4.7497999999999936E-2,4.4578000000000062E-2,2.5086000000000011E-2,2.9004999999999937E-2,3.8007000000000062E-2,2.080299999999994E-2,-1.7900000000000205E-3,-4.0789999999999793E-3,1.0420000000000585E-3,0,1.5240000000000008E-3,1.0922999999999945E-2,4.3420000000000411E-3,1.5431999999999987E-2,1.5366999999999962E-2,1.3182000000000044E-2,2.2184000000000027E-2,2.9059000000000026E-2,2.9471999999999953E-2,2.4227999999999951E-2,3.1478000000000034E-2,2.927499999999995E-2,{"$f":"(BQ$14-100)/100","v":2.1813999999999965E-2},2.7036999999999978E-2,2.8496999999999984E-2,3.6478000000000038E-2,2.7798999999999977E-2,3.8413999999999927E-2,3.2469999999999999E-2,2.7417999999999977E-2,2.970399999999998E-2,2.6538000000000041E-2,2.8659999999999998E-2,1.9617999999999965E-2,1.1444999999999936E-2,1.3716000000000008E-2,1.231499999999997E-2,-1.0778999999999997E-2,-1.5507999999999952E-2,-1.1770000000000067E-2,2.9550000000000409E-3]
[]
["Schalungskantholz","C16, 8/12, \ngekappt, frisch",14,261,271,276,270,278,275,277,281,278,274,273,281,276,281,268.5,272,271,271,276,266,269,274,274,277,272,273,272,273,274,275,265,275,274,271,269,270,269,271,272,276,278,278,276,282,287,278,269,273,269,264,266,267,267,264,266,266,263,262,260,259,258,261,257,260,260,254,261,265,261,262,260,258,262,261,261,261,259,259,260,256,255,256,255,251]
["Schalbretter","C16, \nroh, fix breit, frisch",11,265,271,279,276,273,271,283,276,279,276,276,280,271,278,272,272,274,275,278,272,281,277,276,278,277,279,273,277,272,275,276,269,264,265,263,267,261,262,268,276,280,282,275,281,278,274,265,272,270,260,262,259,260,260,264,261,261,259,258,260,256,255,254,256,255,258,261,258,260,257,254,261,260,256,251,252,253,255,253,253,245,246,248,253]
["Gerüstbretter","C24, \nfix breit, gekappt, frisch",13,300,307,304,302,312,307,318,312,311,307,302,308,295,299,296,298,301,298,306,296,298,307,302,306,304,305,303,306,301,301,293,298,295,302,298,300,299,296,293,295,300,305,304,306,307,301,298,296,295,294,296,292,293,293,294,294,294,290,288,290,290,288,285,288,287,291,289,289,286,288,289,294,292,290,288,286,287,285,285,285,278,283,282,281]
["Index Arbeitsmittel",null,{"$f":"SUM(C20:C22)","v":38},{"$f":"ROUND(D24*$BD23/$BD24,4)","v":100.3246},103.2589,104.55159999999999,103.0877,105.0956,103.8854,106.61499999999999,105.8764,105.6109,104.2471,103.55759999999999,105.8647,102.76309999999999,104.6982,101.79859999999999,102.56,102.93040000000001,102.71429999999999,104.6611,101.4071,103.0231,104.35080000000001,103.71420000000001,104.8177,103.71769999999999,104.1883,103.1966,104.08759999999999,103.19289999999999,103.6606,101.3454,102.7189,101.7242,102.1041,101.1571,101.9415,101.0564,101.1536,101.61239999999999,103.2814,104.5423,105.2825,104.137,105.9119,106.4906,104.02679999999999,101.36450000000001,102.5035,101.56310000000001,99.636700000000005,100.37050000000001,{"$f":"ROUND(BC24*$BD23/$BD24,4)","v":99.7898},100,{"$f":"ROUND(($C20*BE20/$BD20+$C21*BE21/$BD21+$C22*BE22/$BD22)/$C23*100,4)","v":99.585999999999999},{"$f":"ROUND(($C20*BF20/$BD20+$C21*BF21/$BD21+$C22*BF22/$BD22)/$C23*100,4)","v":100.4241},100.09010000000001,99.676199999999994,{"$f":"ROUND(($C20*BI20/$BD20+$C21*BI21/$BD21+$C22*BI22/$BD22)/$C23*100,4)","v":98.848500000000001},98.227599999999995,{"$f":"ROUND(($C20*BK20/$BD20+$C21*BK21/$BD21+$C22*BK22/$BD22)/$C23*100,4)","v":98.5458},97.962500000000006,{"$f":"ROUND(($C20*BM20/$BD20+$C21*BM21/$BD21+$C22*BM22/$BD22)/$C23*100,4)","v":98.031599999999997},97.018100000000004,{"$f":"ROUND(($C20*BO20/$BD20+$C21*BO21/$BD21+$C22*BO22/$BD22)/$C23*100,4)","v":98.004999999999995},97.776899999999998,{"$f":"ROUND(($C20*BQ20/$BD20+$C21*BQ21/$BD21+$C22*BQ22/$BD22)/$C23*100,4)","v":97.75},98.816400000000002,{"$f":"ROUND(($C20*BS20/$BD20+$C21*BS21/$BD21+$C22*BS22/$BD22)/$C23*100,4)","v":99.034300000000002},98.354799999999997,{"$f":"ROUND(($C20*BU20/$BD20+$C21*BU21/$BD21+$C22*BU22/$BD22)/$C23*100,4)","v":98.392300000000006},97.899000000000001,{"$f":"ROUND(($C20*BW20/$BD20+$C21*BW21/$BD21+$C22*BW22/$BD22)/$C23*100,4)","v":98.986199999999997},99.193299999999994,{"$f":"ROUND(($C20*BY20/$BD20+$C21*BY21/$BD21+$C22*BY22/$BD22)/$C23*100,4)","v":98.376499999999993},97.586299999999994,{"$f":"ROUND(($C20*CA20/$BD20+$C21*CA21/$BD21+$C22*CA22/$BD22)/$C23*100,4)","v":97.464100000000002},97.416200000000003,{"$f":"ROUND(($C20*CC20/$BD20+$C21*CC21/$BD21+$C22*CC22/$BD22)/$C23*100,4)","v":97.4054},97.320700000000002,{"$f":"ROUND(($C20*CE20/$BD20+$C21*CE21/$BD21+$C22*CE22/$BD22)/$C23*100,4)","v":96.768699999999995},94.922700000000006,{"$f":"ROUND(($C20*CG20/$BD20+$C21*CG21/$BD21+$C22*CG22/$BD22)/$C23*100,4)","v":95.755899999999997},95.723799999999997,{"$f":"ROUND(($C20*CI20/$BD20+$C21*CI21/$BD21+$C22*CI22/$BD22)/$C23*100,4)","v":95.611800000000002}]
["Index Arbeitsmittel alte Basis",null,null,96.731800000000007,99.561000000000007,100.8074,99.395899999999997,101.3319,100.1651,102.79689999999999,102.0848,101.8288,100.5138,99.849000000000004,102.0735,99.082899999999995,100.9487,98.153000000000006,98.887100000000004,99.244299999999996,99.035899999999998,100.913,97.775499999999994,99.333600000000004,100.6138,100,101.06399999999999,100.0034,100.4571,99.500900000000001,100.36,99.497399999999999,99.948300000000003,97.715999999999994,99.040300000000002,98.081299999999999,98.447500000000005,97.534499999999994,98.290800000000004,97.437399999999997,97.531099999999995,97.973500000000001,99.582700000000003,100.7984,101.5121,100.4076,102.119,102.67700000000001,100.3014,97.734399999999994,98.832599999999999,97.925899999999999,96.0685,96.775999999999996,96.216099999999997,96.418800000000005]
["Index Arbeitsmittel Internet BFS",null,null,null,null,null,null,null,null,null,null,null,null,null,null,null,null,null,null,null,null,null,null,null,null,103.71420000000001,null,103.71769999999999,104.1883,103.1966,104.08759999999999,103.19289999999999,103.6606,101.3454,102.7189,101.7242,102.1041,101.1571,101.9415,101.0564,101.1536,101.61239999999999,103.2814,104.5423,105.2825,104.137,105.9119,106.4906,104.02679999999999,101.36450000000001,102.5035,101.56310000000001,99.636700000000005,100.37050000000001,99.7898,100,99.585999999999999,100.4241,100.09010000000001,99.676199999999994,98.848500000000001,98.227599999999995,98.5458,97.962500000000006,98.031599999999997,97.018100000000004,98.004999999999995,97.776899999999998,97.75,98.816400000000002,99.034300000000002,98.354799999999997,98.392300000000006,97.899000000000001,98.986199999999997,99.193299999999994,98.376499999999993,97.586299999999994,97.464100000000002,97.416200000000003,97.4054,97.320700000000002,96.768699999999995,94.922700000000006,95.755899999999997]
["Kontrolle",null,null,null,null,null,null,null,null,null,null,null,null,null,null,null,null,null,null,null,null,null,null,null,null,{"$f":"Z23-Z25","v":0},null,{"$f":"AB23-AB25","v":0},{"$f":"AC23-AC25","v":0},{"$f":"AD23-AD25","v":0},{"$f":"AE23-AE25","v":0},{"$f":"AF23-AF25","v":0},{"$f":"AG23-AG25","v":0},{"$f":"AH23-AH25","v":0},{"$f":"AI23-AI25","v":0},{"$f":"AJ23-AJ25","v":0},{"$f":"AK23-AK25","v":0},{"$f":"AL23-AL25","v":0},{"$f":"AM23-AM25","v":0},{"$f":"AN23-AN25","v":0},{"$f":"AO23-AO25","v":0},{"$f":"AP23-AP25","v":0},{"$f":"AQ23-AQ25","v":0},{"$f":"AR23-AR25","v":0},{"$f":"AS23-AS25","v":0},{"$f":"AT23-AT25","v":0},{"$f":"AU23-AU25","v":0},{"$f":"AV23-AV25","v":0},{"$f":"AW23-AW25","v":0},{"$f":"AX23-AX25","v":0},{"$f":"AY23-AY25","v":0},{"$f":"AZ23-AZ25","v":0},{"$f":"BA23-BA25","v":0},{"$f":"BB23-BB25","v":0},{"$f":"BC23-BC25","v":0},{"$f":"BD23-BD25","v":0},{"$f":"BE23-BE25","v":0},0,0,0,0,0,0,{"$f":"BL23-BL25","v":0},0,{"$f":"BN23-BN25","v":0},0,0,{"$f":"BQ23-BQ25","v":0},0,{"$f":"BS23-BS25","v":0},0,{"$f":"BU23-BU25","v":0},0,{"$f":"BW23-BW25","v":0},0,{"$f":"BY23-BY25","v":0},0,{"$f":"CA23-CA25","v":0},0,{"$f":"CC23-CC25","v":0},0,{"$f":"CE23-CE25","v":0},0,{"$f":"CG23-CG25","v":0},95.723799999999997,{"$f":"CI23-CI25","v":95.611800000000002}]
["Index Arbeitsmittel",null,{"$f":"SUM(C20:C22)","v":38},{"$f":"(D$23-100)/100","v":3.2460000000000379E-3},3.2588999999999972E-2,4.5515999999999932E-2,3.0876999999999981E-2,5.0956000000000043E-2,3.8854000000000041E-2,6.6149999999999945E-2,5.8764000000000038E-2,5.6109000000000006E-2,4.247100000000003E-2,3.5575999999999934E-2,5.8646999999999991E-2,2.7630999999999944E-2,4.6981999999999996E-2,1.7985999999999933E-2,2.5600000000000022E-2,2.9304000000000059E-2,2.7142999999999945E-2,4.6611000000000048E-2,1.4070999999999998E-2,3.0230999999999994E-2,4.3508000000000067E-2,3.714200000000005E-2,4.8177000000000018E-2,3.7176999999999932E-2,4.1882999999999983E-2,3.1966000000000036E-2,4.0875999999999947E-2,3.1928999999999944E-2,3.660600000000002E-2,1.345399999999998E-2,2.718900000000005E-2,1.7241999999999962E-2,2.1041000000000025E-2,1.1570999999999998E-2,1.941500000000005E-2,1.0563999999999964E-2,1.1535999999999973E-2,1.6123999999999937E-2,3.2814000000000051E-2,4.542299999999997E-2,5.282499999999999E-2,4.1370000000000004E-2,5.9119000000000026E-2,6.4906000000000005E-2,4.0267999999999943E-2,1.3645000000000067E-2,2.5035000000000026E-2,1.5631000000000058E-2,-3.6329999999999531E-3,3.7050000000000693E-3,-2.102000000000004E-3,0,{"$f":"(BE$23-100)/100","v":-4.1400000000000152E-3},{"$f":"(BF$23-100)/100","v":4.2409999999999566E-3},9.0100000000006733E-4,-3.2380000000000564E-3,-1.1514999999999987E-2,-1.7724000000000045E-2,-1.4542000000000001E-2,-2.0374999999999942E-2,-1.9684000000000024E-2,-2.981899999999996E-2,-1.9950000000000044E-2,-2.2231000000000022E-2,-2.2499999999999999E-2,-1.1835999999999984E-2,-9.6569999999999816E-3,-1.6452000000000026E-2,-1.6076999999999942E-2,-2.100999999999999E-2,-1.0138000000000034E-2,-8.0670000000000637E-3,-1.6235000000000069E-2,-2.4137000000000058E-2,-2.5358999999999979E-2,-2.5837999999999965E-2,-2.5945999999999997E-2,-2.6792999999999977E-2,-3.2313000000000043E-2,-5.0772999999999936E-2,-4.2441000000000034E-2,-4.2762000000000029E-2,-4.3881999999999977E-2]
[]
["Klotzbretter FI","2, technisch getrocknet",25,757,772,792,776,781,804,792,804,780,744,759,772,751,781,782,769,774,773,770,755,759,754,772,779,768,788,767,771,777,780,773,772,752,781,773,766,758,759,758,772,759,771,795,805,798,803,788,773,782,774,722,766,745,742,738,738,754,768,776,783,785,783,777,797,797,805,807,800,818,806,827,815,814,810,832,835,812,808,823,831,819,826,823,837]
["Klotzbretter TA","2, technisch getrocknet",25,762,754,760,741,747,755,730,730,719,700,710,711,707,693,712,724,716,715,704,699,698,693,722,738,711,711,708,718,738,718,723,704,680,678,676,668,671,674,687,689,694,687,683,680,703,692,688,694,691,679,692,685,689,692,693,693,710,722,744,751,769,754,744,740,731,722,714,707,709,692,708,688,715,712,737,749,771,769,773,772,766,764,767,785]
["Flügelkanteln FI","2, technisch getrocknet",25,1002,1014,1011,1021,1024,1020,1015,1004,1016,1030,1045,1084,1010,1007,1007,1025,1039,1059,1076,1097,1133,1151,1160,1182,1194,1216,1179,1209,1152,1161,1164,1172,1190,1198,1186,1149,1154,1157,1147,1115,1136,1133,1132,1153,1148,1140,1132,1131,1098,1006,1026,1053,1028,1023,1011,1011,982,998,980,974,967,953,961,986,995,999,991,990,1002,992,999,1049,990,1012,1046,1052,1059,1031,1040,1046,1041,1057,1054,957]
["Rahmenkanteln FI","2, technisch getrocknet",25,754,787,800,799,795,795,818,815,832,844,871,890,868,880,867,894,887,896,911,961,961,912,942,948,963,983,962,984,985,981,976,979,974,972,960,994,965,950,939,960,941,938,935,954,950,953,943,958,955,918,904,925,912,908,901,901,885,909,896,894,896,885,881,902,926,922,909,919,916,908,921,915,912,910,908,904,906,883,885,886,880,890,891,880]
["Index Klotzbretter und Kanteln",null,{"$f":"SUM(C29:C32)","v":100},{"$f":"ROUND(($C29*D29/$BD29+$C30*D30/$BD30+$C31*D31/$BD31+$C32*D32/$BD32)/$C33*100,4)","v":98.087999999999994},{"$f":"ROUND(($C29*E29/$BD29+$C30*E30/$BD30+$C31*E31/$BD31+$C32*E32/$BD32)/$C33*100,4)","v":99.497500000000002},{"$f":"ROUND(($C29*F29/$BD29+$C30*F30/$BD30+$C31*F31/$BD31+$C32*F32/$BD32)/$C33*100,4)","v":100.6698},{"$f":"ROUND(($C29*G29/$BD29+$C30*G30/$BD30+$C31*G31/$BD31+$C32*G32/$BD32)/$C33*100,4)","v":99.659199999999998},{"$f":"ROUND(($C29*H29/$BD29+$C30*H30/$BD30+$C31*H31/$BD31+$C32*H32/$BD32)/$C33*100,4)","v":100.008},{"$f":"ROUND(($C29*I29/$BD29+$C30*I30/$BD30+$C31*I31/$BD31+$C32*I32/$BD32)/$C33*100,4)","v":100.9729},{"$f":"ROUND(($C29*J29/$BD29+$C30*J30/$BD30+$C31*J31/$BD31+$C32*J32/$BD32)/$C33*100,4)","v":100.17189999999999},{"$f":"ROUND(($C29*K29/$BD29+$C30*K30/$BD30+$C31*K31/$BD31+$C32*K32/$BD32)/$C33*100,4)","v":100.22490000000001},{"$f":"ROUND(($C29*L29/$BD29+$C30*L30/$BD30+$C31*L31/$BD31+$C32*L32/$BD32)/$C33*100,4)","v":99.778199999999998},{"$f":"ROUND(($C29*M29/$BD29+$C30*M30/$BD30+$C31*M31/$BD31+$C32*M32/$BD32)/$C33*100,4)","v":98.550200000000004},{"$f":"ROUND(($C29*N29/$BD29+$C30*N30/$BD30+$C31*N31/$BD31+$C32*N32/$BD32)/$C33*100,4)","v":100.5213},{"$f":"ROUND(($C29*O29/$BD29+$C30*O30/$BD30+$C31*O31/$BD31+$C32*O32/$BD32)/$C33*100,4)","v":102.4631},{"$f":"ROUND(($C29*P29/$BD29+$C30*P30/$BD30+$C31*P31/$BD31+$C32*P32/$BD32)/$C33*100,4)","v":99.210599999999999},{"$f":"ROUND(($C29*Q29/$BD29+$C30*Q30/$BD30+$C31*Q31/$BD31+$C32*Q32/$BD32)/$C33*100,4)","v":99.965299999999999},{"$f":"ROUND(($C29*R29/$BD29+$C30*R30/$BD30+$C31*R31/$BD31+$C32*R32/$BD32)/$C33*100,4)","v":100.3319},{"$f":"ROUND(($C29*S29/$BD29+$C30*S30/$BD30+$C31*S31/$BD31+$C32*S32/$BD32)/$C33*100,4)","v":101.5089},{"$f":"ROUND(($C29*T29/$BD29+$C30*T30/$BD30+$C31*T31/$BD31+$C32*T32/$BD32)/$C33*100,4)","v":101.535},{"$f":"ROUND(($C29*U29/$BD29+$C30*U30/$BD30+$C31*U31/$BD31+$C32*U32/$BD32)/$C33*100,4)","v":102.1983},{"$f":"ROUND(($C29*V29/$BD29+$C30*V30/$BD30+$C31*V31/$BD31+$C32*V32/$BD32)/$C33*100,4)","v":102.5231},{"$f":"ROUND(($C29*W29/$BD29+$C30*W30/$BD30+$C31*W31/$BD31+$C32*W32/$BD32)/$C33*100,4)","v":103.7196},{"$f":"ROUND(($C29*X29/$BD29+$C30*X30/$BD30+$C31*X31/$BD31+$C32*X32/$BD32)/$C33*100,4)","v":104.6931},{"$f":"ROUND(($C29*Y29/$BD29+$C30*Y30/$BD30+$C31*Y31/$BD31+$C32*Y32/$BD32)/$C33*100,4)","v":103.4384},{"$f":"ROUND(($C29*Z29/$BD29+$C30*Z30/$BD30+$C31*Z31/$BD31+$C32*Z32/$BD32)/$C33*100,4)","v":106.13590000000001},{"$f":"ROUND(($C29*AA29/$BD29+$C30*AA30/$BD30+$C31*AA31/$BD31+$C32*AA32/$BD32)/$C33*100,4)","v":107.65089999999999},{"$f":"ROUND(($C29*AB29/$BD29+$C30*AB30/$BD30+$C31*AB31/$BD31+$C32*AB32/$BD32)/$C33*100,4)","v":107.0051},{"$f":"ROUND(($C29*AC29/$BD29+$C30*AC30/$BD30+$C31*AC31/$BD31+$C32*AC32/$BD32)/$C33*100,4)","v":108.7595},{"$f":"ROUND(($C29*AD29/$BD29+$C30*AD30/$BD30+$C31*AD31/$BD31+$C32*AD32/$BD32)/$C33*100,4)","v":106.4705},{"$f":"ROUND(($C29*AE29/$BD29+$C30*AE30/$BD30+$C31*AE31/$BD31+$C32*AE32/$BD32)/$C33*100,4)","v":108.3002},{"$f":"ROUND(($C29*AF29/$BD29+$C30*AF30/$BD30+$C31*AF31/$BD31+$C32*AF32/$BD32)/$C33*100,4)","v":107.86839999999999},{"$f":"ROUND(($C29*AG29/$BD29+$C30*AG30/$BD30+$C31*AG31/$BD31+$C32*AG32/$BD32)/$C33*100,4)","v":107.3526},{"$f":"ROUND(($C29*AH29/$BD29+$C30*AH30/$BD30+$C31*AH31/$BD31+$C32*AH32/$BD32)/$C33*100,4)","v":107.235},{"$f":"ROUND(($C29*AI29/$BD29+$C30*AI30/$BD30+$C31*AI31/$BD31+$C32*AI32/$BD32)/$C33*100,4)","v":106.7889},{"$f":"ROUND(($C29*AJ29/$BD29+$C30*AJ30/$BD30+$C31*AJ31/$BD31+$C32*AJ32/$BD32)/$C33*100,4)","v":105.5476},{"$f":"ROUND(($C29*AK29/$BD29+$C30*AK30/$BD30+$C31*AK31/$BD31+$C32*AK32/$BD32)/$C33*100,4)","v":106.5879},{"$f":"ROUND(($C29*AL29/$BD29+$C30*AL30/$BD30+$C31*AL31/$BD31+$C32*AL32/$BD32)/$C33*100,4)","v":105.62609999999999},{"$f":"ROUND(($C29*AM29/$BD29+$C30*AM30/$BD30+$C31*AM31/$BD31+$C32*AM32/$BD32)/$C33*100,4)","v":105.1331},{"$f":"ROUND(($C29*AN29/$BD29+$C30*AN30/$BD30+$C31*AN31/$BD31+$C32*AN32/$BD32)/$C33*100,4)","v":104.3002},{"$f":"ROUND(($C29*AO29/$BD29+$C30*AO30/$BD30+$C31*AO31/$BD31+$C32*AO32/$BD32)/$C33*100,4)","v":104.1044},{"$f":"ROUND(($C29*AP29/$BD29+$C30*AP30/$BD30+$C31*AP31/$BD31+$C32*AP32/$BD32)/$C33*100,4)","v":103.9978},{"$f":"ROUND(($C29*AQ29/$BD29+$C30*AQ30/$BD30+$C31*AQ31/$BD31+$C32*AQ32/$BD32)/$C33*100,4)","v":104.33759999999999},{"$f":"ROUND(($C29*AR29/$BD29+$C30*AR30/$BD30+$C31*AR31/$BD31+$C32*AR32/$BD32)/$C33*100,4)","v":104.07259999999999},{"$f":"ROUND(($C29*AS29/$BD29+$C30*AS30/$BD30+$C31*AS31/$BD31+$C32*AS32/$BD32)/$C33*100,4)","v":104.06610000000001},{"$f":"ROUND(($C29*AT29/$BD29+$C30*AT30/$BD30+$C31*AT31/$BD31+$C32*AT32/$BD32)/$C33*100,4)","v":104.6198},{"$f":"ROUND(($C29*AU29/$BD29+$C30*AU30/$BD30+$C31*AU31/$BD31+$C32*AU32/$BD32)/$C33*100,4)","v":105.8781},{"$f":"ROUND(($C29*AV29/$BD29+$C30*AV30/$BD30+$C31*AV31/$BD31+$C32*AV32/$BD32)/$C33*100,4)","v":106.2465},{"$f":"ROUND(($C29*AW29/$BD29+$C30*AW30/$BD30+$C31*AW31/$BD31+$C32*AW32/$BD32)/$C33*100,4)","v":105.9028},{"$f":"ROUND(($C29*AX29/$BD29+$C30*AX30/$BD30+$C31*AX31/$BD31+$C32*AX32/$BD32)/$C33*100,4)","v":104.7856},{"$f":"ROUND(($C29*AY29/$BD29+$C30*AY30/$BD30+$C31*AY31/$BD31+$C32*AY32/$BD32)/$C33*100,4)","v":104.88679999999999},{"$f":"ROUND(($C29*AZ29/$BD29+$C30*AZ30/$BD30+$C31*AZ31/$BD31+$C32*AZ32/$BD32)/$C33*100,4)","v":104.1952},{"$f":"ROUND(($C29*BA29/$BD29+$C30*BA30/$BD30+$C31*BA31/$BD31+$C32*BA32/$BD32)/$C33*100,4)","v":100.2398},{"$f":"ROUND(($C29*BB29/$BD29+$C30*BB30/$BD30+$C31*BB31/$BD31+$C32*BB32/$BD32)/$C33*100,4)","v":99.069100000000006},101.5239,100,{"$f":"ROUND(($C29*BE29/$BD29+$C30*BE30/$BD30+$C31*BE31/$BD31+$C32*BE32/$BD32)/$C33*100,4)","v":99.776899999999998},{"$f":"ROUND(($C29*BF29/$BD29+$C30*BF30/$BD30+$C31*BF31/$BD31+$C32*BF32/$BD32)/$C33*100,4)","v":99.195300000000003},99.195300000000003,99.205200000000005,{"$f":"ROUND(($C29*BI29/$BD29+$C30*BI30/$BD30+$C31*BI31/$BD31+$C32*BI32/$BD32)/$C33*100,4)","v":101.1574},101.43,{"$f":"ROUND(($C29*BK29/$BD29+$C30*BK30/$BD30+$C31*BK31/$BD31+$C32*BK32/$BD32)/$C33*100,4)","v":101.7182},102.32299999999999,{"$f":"ROUND(($C29*BM29/$BD29+$C30*BM30/$BD30+$C31*BM31/$BD31+$C32*BM32/$BD32)/$C33*100,4)","v":101.06959999999999},100.5903,{"$f":"ROUND(($C29*BO29/$BD29+$C30*BO30/$BD30+$C31*BO31/$BD31+$C32*BO32/$BD32)/$C33*100,4)","v":102.3},102.8502,{"$f":"ROUND(($C29*BQ29/$BD29+$C30*BQ30/$BD30+$C31*BQ31/$BD31+$C32*BQ32/$BD32)/$C33*100,4)","v":102.77970000000001},102.0056,{"$f":"ROUND(($C29*BS29/$BD29+$C30*BS30/$BD30+$C31*BS31/$BD31+$C32*BS32/$BD32)/$C33*100,4)","v":101.76649999999999},102.6527,{"$f":"ROUND(($C29*BU29/$BD29+$C30*BU30/$BD30+$C31*BU31/$BD31+$C32*BU32/$BD32)/$C33*100,4)","v":101.1707},102.9825,{"$f":"ROUND(($C29*BW29/$BD29+$C30*BW30/$BD30+$C31*BW31/$BD31+$C32*BW32/$BD32)/$C33*100,4)","v":102.90560000000001},102.3347,{"$f":"ROUND(($C29*BY29/$BD29+$C30*BY30/$BD30+$C31*BY31/$BD31+$C32*BY32/$BD32)/$C33*100,4)","v":102.5718},104.9892,{"$f":"ROUND(($C29*CA29/$BD29+$C30*CA30/$BD30+$C31*CA31/$BD31+$C32*CA32/$BD32)/$C33*100,4)","v":105.5616},105.81310000000001,{"$f":"ROUND(($C29*CC29/$BD29+$C30*CC30/$BD30+$C31*CC31/$BD31+$C32*CC32/$BD32)/$C33*100,4)","v":104.2949},105.217,{"$f":"ROUND(($C29*CE29/$BD29+$C30*CE30/$BD30+$C31*CE31/$BD31+$C32*CE32/$BD32)/$C33*100,4)","v":105.6225},104.7161,{"$f":"ROUND(($C29*CG29/$BD29+$C30*CG30/$BD30+$C31*CG31/$BD31+$C32*CG32/$BD32)/$C33*100,4)","v":105.5416},105.5043,{"$f":"ROUND(($C29*CI29/$BD29+$C30*CI30/$BD30+$C31*CI31/$BD31+$C32*CI32/$BD32)/$C33*100,4)","v":103.9667}]
[null,"Index Klotzbretter und Kanteln",{"$f":"SUM(C29:C32)","v":100},{"$f":"(D$33-100)/100","v":-1.9120000000000061E-2},-5.0249999999999774E-3,6.6979999999999505E-3,-3.4080000000000156E-3,7.9999999999955663E-5,9.7289999999999564E-3,1.7189999999999372E-3,2.2490000000000522E-3,-2.2180000000000177E-3,-1.4497999999999962E-2,5.2129999999999651E-3,2.4630999999999972E-2,-7.8940000000000052E-3,-3.4700000000000843E-4,3.3190000000000454E-3,1.508899999999997E-2,1.5349999999999966E-2,2.1983000000000034E-2,2.5230999999999993E-2,3.7196E-2,4.6931000000000014E-2,3.4384000000000012E-2,6.1359000000000066E-2,7.6508999999999924E-2,7.0050999999999988E-2,8.7595000000000034E-2,6.4705000000000013E-2,8.3002000000000034E-2,7.8683999999999935E-2,7.3525999999999953E-2,7.2349999999999998E-2,6.7888999999999977E-2,5.5476000000000025E-2,6.5879000000000049E-2,5.6260999999999936E-2,5.1330999999999988E-2,4.300200000000004E-2,4.1043999999999983E-2,3.9977999999999979E-2,4.3375999999999949E-2,4.0725999999999943E-2,4.0661000000000058E-2,4.6197999999999982E-2,5.8781000000000035E-2,6.2464999999999972E-2,5.902799999999999E-2,4.7856000000000024E-2,4.8867999999999939E-2,4.1951999999999996E-2,2.3980000000000247E-3,-9.3089999999999406E-3,1.5238999999999977E-2,0,{"$f":"(BE$33-100)/100","v":-2.2310000000000229E-3},{"$f":"(BF$33-100)/100","v":-8.0469999999999691E-3},-8.0469999999999691E-3,-7.9479999999999499E-3,1.1573999999999956E-2,1.4300000000000068E-2,1.7181999999999961E-2,2.3229999999999931E-2,1.0695999999999942E-2,{"$f":"(BN$33-100)/100","v":5.9029999999999916E-3},{"$f":"(BO$33-100)/100","v":2.2999999999999972E-2},2.850200000000001E-2,2.7797000000000054E-2,2.0056000000000011E-2,1.7664999999999934E-2,2.6526999999999957E-2,1.1706999999999966E-2,2.9825000000000018E-2,2.9056000000000068E-2,2.3346999999999979E-2,2.571799999999996E-2,4.9891999999999964E-2,5.5615999999999985E-2,5.8131000000000058E-2,4.2948999999999987E-2,5.2169999999999987E-2,5.6225000000000025E-2,4.7160999999999974E-2,5.5416000000000028E-2,5.5043000000000009E-2,3.9667000000000029E-2]
[]
["Kistenbretter 1)","5, Breitware, lufttrocken",5,271,272,274,272,268,271,267,271,270,273,270,270,256,258,261,261,262,252,261,262,267,265,266,263,266,269,268,265,267,261,253,258,253,251,245,253,250,252,252,254,257,260,262,269,271,260,266,267,242,239,238,243,235,238,237,231,233,240,246,250,241,247,248,250,251,252,254,257,252,255,253,255,249,244,243,242,236,232,224,220,220,218,218,219]
["Verpackungskantholz 1)","5, lufttrocken",3,258,265,269,269,266,273,271,268,273,271,274,274,265,255,253,258,253,247,243,251,255,256,260,259,253,259,256,253,255,250,256,260,248,262,247,244,251,246,241,247,253,248,239,243,240,241,248,251,255,244,242,228,233,239,235,228,234,232,214,225,222,214,213,213,207,213,210,207,216,218,221,222,214,219,212,214,211,200,202,201,193,189,188,187]
["Palettenbretter EURO 1)","5, frisch",2,231,237,244,241,233,230,229,229,233,231,228,230,212,213,207,220,220,212,214,209,213,222,222,220,225,229,215,209,192,198,204,206,203,211,209,207,201,200,199,203,202,204,201,200,201,200,200,201,186,185,183,180,181,183,182,161,163,171,162,169,178,178,176,181,179,176,183,192,190,185,182,189,184,183,185,189,182,160,157,159,153,147,147,154]
["Paletten-Kantholz 1)","5, frisch",2,228,228,240,228,228,233,231,222,222,222,223,224,188,192,208,202,195,194,194,196,214,221,212,204,196,199,187,186,191,199,190,187,192,184,189,186,185,196,210,213,217,216,219,219,216,219,221,222,221,183,185,188,187,188,188,190,188,189,189,189,190,195,190,193,190,190,199,216,219,214,214,220,217,208,212,213,176,174,161,164,167,167,168,158]
["Index Holzverpackungs- und Palettenware",null,{"$f":"SUM(C36:C39)","v":12},{"$f":"ROUND(D41*E40/E41,4)","v":118.5288},120.121,122.6806,121.0103,118.92529999999999,119.9679,118.807,118.6069,119.3995,119.48699999999999,118.8458,119.20350000000001,110.7728,110.7594,111.4671,113.2672,112.52200000000001,109.0565,110.61369999999999,110.8762,113.988,115.5085,115.3408,113.8511,114.01430000000001,115.8197,112.5264,110.8279,109.3061,109.2821,108.5295,109.79989999999999,107.8909,109.2054,107.0188,107.69,106.79810000000001,107.4239,107.91759999999999,109.5458,110.717,111.0551,110.48139999999999,111.904,111.9359,110.14619999999999,111.9235,112.55880000000001,106.2471,101.8668,101.3931,{"$f":"ROUND(BC41*BD40/BD41,4)","v":100.9482},100,{"$f":"ROUND(($C36*BE36/$BD36+$C37*BE37/$BD37+$C38*BE38/$BD38+$C39*BE39/$BD39)/$C40*100,4)","v":101.449},{"$f":"ROUND(($C36*BF36/$BD36+$C37*BF37/$BD37+$C38*BF38/$BD38+$C39*BF39/$BD39)/$C40*100,4)","v":100.7504},97.180099999999996,98.184399999999997,{"$f":"ROUND(($C36*BI36/$BD36+$C37*BI37/$BD37+$C38*BI38/$BD38+$C39*BI39/$BD39)/$C40*100,4)","v":100.0367},98.340400000000002,{"$f":"ROUND(($C36*BK36/$BD36+$C37*BK37/$BD37+$C38*BK38/$BD38+$C39*BK39/$BD39)/$C40*100,4)","v":100.8745},99.874700000000004,{"$f":"ROUND(($C36*BM36/$BD36+$C37*BM37/$BD37+$C38*BM38/$BD38+$C39*BM39/$BD39)/$C40*100,4)","v":100.5258},99.965999999999994,{"$f":"ROUND(($C36*BO36/$BD36+$C37*BO37/$BD37+$C38*BO38/$BD38+$C39*BO39/$BD39)/$C40*100,4)","v":101.0484},100.13039999999999,{"$f":"ROUND(($C36*BQ36/$BD36+$C37*BQ37/$BD37+$C38*BQ38/$BD38+$C39*BQ39/$BD39)/$C40*100,4)","v":100.6752},102.15470000000001,{"$f":"ROUND(($C36*BS36/$BD36+$C37*BS37/$BD37+$C38*BS38/$BD38+$C39*BS39/$BD39)/$C40*100,4)","v":104.7086},104.87090000000001,{"$f":"ROUND(($C36*BU36/$BD36+$C37*BU37/$BD37+$C38*BU38/$BD38+$C39*BU39/$BD39)/$C40*100,4)","v":104.7114},104.4024,{"$f":"ROUND(($C36*BW36/$BD36+$C37*BW37/$BD37+$C38*BW38/$BD38+$C39*BW39/$BD39)/$C40*100,4)","v":106.0437},103.3937,{"$f":"ROUND(($C36*BY36/$BD36+$C37*BY37/$BD37+$C38*BY38/$BD38+$C39*BY39/$BD39)/$C40*100,4)","v":102.1494},101.7617,{"$f":"ROUND(($C36*CA36/$BD36+$C37*CA37/$BD37+$C38*CA38/$BD38+$C39*CA39/$BD39)/$C40*100,4)","v":102.2564},96.9285,{"$f":"ROUND(($C36*CC36/$BD36+$C37*CC37/$BD37+$C38*CC38/$BD38+$C39*CC39/$BD39)/$C40*100,4)","v":92.834999999999994},90.196200000000005,{"$f":"ROUND(($C36*CE36/$BD36+$C37*CE37/$BD37+$C38*CE38/$BD38+$C39*CE39/$BD39)/$C40*100,4)","v":89.831299999999999},88.687799999999996,{"$f":"ROUND(($C36*CG36/$BD36+$C37*CG37/$BD37+$C38*CG38/$BD38+$C39*CG39/$BD39)/$C40*100,4)","v":87.351500000000001},87.333299999999994,{"$f":"ROUND(($C36*CI36/$BD36+$C37*CI37/$BD37+$C38*CI38/$BD38+$C39*CI39/$BD39)/$C40*100,4)","v":87.156599999999997}]
["Index Verpackungs und Palettenware alte Basis",null,null,102.76390000000001,104.1443,106.3635,104.91540000000001,103.10769999999999,104.0116,103.0051,102.83159999999999,103.5188,103.5947,103.03879999999999,103.3489,96.039500000000004,96.027900000000002,96.641499999999994,98.202200000000005,97.556100000000001,94.551500000000004,95.901600000000002,96.129199999999997,98.827100000000002,100.1454,100,98.708399999999997,98.849900000000005,100.4152,97.559899999999999,96.087299999999999,94.767899999999997,94.747100000000003,94.0946,95.195999999999998,93.540899999999993,94.680599999999998,92.784800000000004,93.366699999999994,92.593400000000003,93.135999999999996,93.563999999999993,94.9756,95.991,96.284099999999995,95.786699999999996,97.020099999999999,97.047799999999995,95.496099999999998,97.037000000000006,97.587800000000001,92.115600000000001,88.317899999999995,87.907200000000003,87.521500000000003,86.699399999999997]
["Index Verpackungs und Palettenware Internet BFS",null,null,null,null,null,null,null,null,null,null,null,null,null,null,null,null,null,null,null,null,null,null,null,null,115.3411,null,114.0145,115.8199,112.5266,110.82810000000001,109.30629999999999,109.28230000000001,108.52970000000001,109.8001,107.89109999999999,109.2056,107.01900000000001,107.6901,106.79819999999999,107.42400000000001,107.9177,109.5459,110.717,111.0551,110.48139999999999,111.904,111.93600000000001,110.14619999999999,111.9235,112.55880000000001,106.2471,101.8668,101.3931,100.9482,100,101.449,100.7504,97.180099999999996,98.184399999999997,100.0367,98.340400000000002,100.8745,99.874700000000004,100.5258,99.965999999999994,101.0484,100.13039999999999,100.6752,102.15470000000001,104.7086,104.87090000000001,104.7114,104.4024,106.0437,103.3937,102.1494,101.7617,102.2564,96.9285,92.834999999999994,90.196200000000005,89.831299999999999,88.687799999999996,87.351500000000001]
["Kontrolle",null,null,null,null,null,null,null,null,null,null,null,null,null,null,null,null,null,null,null,null,null,null,null,null,{"$f":"Z40-Z42","v":-2.9999999999574811E-4},null,{"$f":"AB40-AB42","v":-1.9999999999242846E-4},{"$f":"AC40-AC42","v":-2.0000000000663931E-4},{"$f":"AD40-AD42","v":-2.0000000000663931E-4},{"$f":"AE40-AE42","v":-2.0000000000663931E-4},{"$f":"AF40-AF42","v":-1.9999999999242846E-4},{"$f":"AG40-AG42","v":-2.0000000000663931E-4},{"$f":"AH40-AH42","v":-2.0000000000663931E-4},{"$f":"AI40-AI42","v":-2.0000000000663931E-4},{"$f":"AJ40-AJ42","v":-1.9999999999242846E-4},{"$f":"AK40-AK42","v":-2.0000000000663931E-4},{"$f":"AL40-AL42","v":-2.0000000000663931E-4},{"$f":"AM40-AM42","v":-1.0000000000331966E-4},{"$f":"AN40-AN42","v":-9.9999999989108801E-5},{"$f":"AO40-AO42","v":-1.0000000000331966E-4},{"$f":"AP40-AP42","v":-1.0000000000331966E-4},{"$f":"AQ40-AQ42","v":-1.0000000000331966E-4},{"$f":"AR40-AR42","v":0},{"$f":"AS40-AS42","v":0},{"$f":"AT40-AT42","v":0},{"$f":"AU40-AU42","v":0},{"$f":"AV40-AV42","v":-1.0000000000331966E-4},{"$f":"AW40-AW42","v":0},{"$f":"AX40-AX42","v":0},{"$f":"AY40-AY42","v":0},{"$f":"AZ40-AZ42","v":0},{"$f":"BA40-BA42","v":0},{"$f":"BB40-BB42","v":0},{"$f":"BC40-BC42","v":0},{"$f":"BD40-BD42","v":0},{"$f":"BE40-BE42","v":0},0,0,0,0,0,0,{"$f":"BL40-BL42","v":0},0,{"$f":"BN40-BN42","v":0},0,0,{"$f":"BQ40-BQ42","v":0},0,{"$f":"BS40-BS42","v":0},0,{"$f":"BU40-BU42","v":0},0,{"$f":"BW40-BW42","v":0},0,{"$f":"BY40-BY42","v":0},0,{"$f":"CA40-CA42","v":0},0,{"$f":"CC40-CC42","v":0},0,{"$f":"CE40-CE42","v":0},0,{"$f":"CG40-CG42","v":0},87.333299999999994,{"$f":"CI40-CI42","v":87.156599999999997}]
["Index Holzverpackungs- und Palettenware",null,{"$f":"SUM(C36:C39)","v":12},{"$f":"(D$40-100)/100","v":0.18528800000000004},0.20120999999999994,0.22680599999999998,0.21010300000000001,0.18925299999999992,0.199679,0.18807000000000001,0.18606899999999996,0.19399500000000003,0.19486999999999996,0.18845799999999996,0.19203500000000007,0.10772800000000003,0.107594,0.11467100000000002,0.13267200000000001,0.12522000000000005,9.0564999999999993E-2,0.10613699999999994,0.10876199999999997,0.13988,0.15508499999999997,0.15340800000000002,0.13851100000000002,0.14014300000000005,0.15819699999999998,0.12526399999999996,0.108279,9.3061000000000005E-2,9.2821000000000001E-2,8.5294999999999982E-2,9.7998999999999933E-2,7.8909000000000021E-2,9.2053999999999969E-2,7.0187999999999987E-2,7.6899999999999982E-2,6.7981000000000055E-2,7.4239000000000027E-2,7.9175999999999927E-2,9.5458000000000001E-2,0.10716999999999999,0.11055099999999995,0.10481399999999993,0.11903999999999997,0.11935900000000003,0.10146199999999993,0.11923500000000004,0.12558800000000006,6.2471000000000033E-2,1.8667999999999976E-2,1.3931000000000041E-2,9.4819999999999991E-3,0,{"$f":"(BE$40-100)/100","v":1.448999999999998E-2},{"$f":"(BF$40-100)/100","v":7.5039999999999907E-3},-2.819900000000004E-2,-1.8156000000000033E-2,3.6699999999996181E-4,-1.6595999999999975E-2,8.7449999999999768E-3,-1.2529999999999575E-3,5.2580000000000378E-3,-3.4000000000006025E-4,1.0484000000000009E-2,1.3039999999999452E-3,6.7520000000000384E-3,2.1547000000000052E-2,4.7086000000000044E-2,4.8709000000000058E-2,4.7113999999999975E-2,4.4024000000000001E-2,6.0437000000000012E-2,3.3936999999999953E-2,2.1493999999999999E-2,1.7617000000000046E-2,2.2563999999999994E-2,-3.0715000000000003E-2,-7.1650000000000061E-2,-9.8037999999999959E-2,-0.10168700000000001,-0.11312200000000004,-0.12648499999999999,-0.12666700000000006,-0.12843400000000002]
[]
["Zuschlag ISPM 15","(nicht mengengewichtet)",null,34,32,32,32,32,31,30,32,32,32,31,31,30,30,31,31,30,30,31,31,30,32,32,33,31,31,33,33,33,33,33,33,32,32,32,32,32,32,31,31,31,32,31,31,31,31,32,31,29,30,30,30,30,30,30,30,30,30,30,30,30,30,29,29,30,29,29,29,29,31,31,30,30,30,30,30,30,30,30,30,30,28,29,29]
[]
["  Schnittholz (Fichte/Tanne)","  Bois de sciage (épicéa/sapin)",{"$f":"C18+C27+C44","v":100},{"$f":"ROUND(D49*$BD48/$BD49,4)","v":108.8771},111.4447,113.0401,111.5902,111.0939,110.7499,110.613,110.2042,110.4336,109.08710000000001,108.9226,110.09699999999999,105.8668,106.0856,105.449,106.4665,106.9212,106.05880000000001,106.7563,105.6464,107.28740000000001,108.0194,107.8908,108.1251,107.45229999999999,107.29219999999999,106.3815,105.7381,104.51600000000001,104.72410000000001,104.31019999999999,104.1831,103.446,103.7925,102.929,103.14319999999999,102.1177,103.18470000000001,103.2765,104.5117,105.2636,105.84829999999999,105.36579999999999,106.5727,106.61,104.53830000000001,104.29389999999999,105.21169999999999,102.7817,100.18640000000001,100.19750000000001,{"$f":"ROUND(BC49*$BD48/$BD49,4)","v":100.1831},{"$f":"($C7*BD7/$BD7+$C10*BD10/$BD10+$C11*BD11/$BD11+$C12*BD12/$BD12+$C13*BD13/$BD13+$C20*BD20/$BD20+$C21*BD21/$BD21+$C22*BD22/$BD22+$C36*BD36/$BD36+$C37*BD37/$BD37+$C38*BD38/$BD38+$C39*BD39/$BD39)/$C48*100","v":100},{"$f":"ROUND(($C7*BE7/$BD7+$C10*BE10/$BD10+$C11*BE11/$BD11+$C12*BE12/$BD12+$C13*BE13/$BD13+$C20*BE20/$BD20+$C21*BE21/$BD21+$C22*BE22/$BD22+$C36*BE36/$BD36+$C37*BE37/$BD37+$C38*BE38/$BD38+$C39*BE39/$BD39)/$C48*100,4)","v":100.0928},{"$f":"ROUND(($C7*BF7/$BD7+$C10*BF10/$BD10+$C11*BF11/$BD11+$C12*BF12/$BD12+$C13*BF13/$BD13+$C20*BF20/$BD20+$C21*BF21/$BD21+$C22*BF22/$BD22+$C36*BF36/$BD36+$C37*BF37/$BD37+$C38*BF38/$BD38+$C39*BF39/$BD39)/$C48*100,4)","v":100.7974},99.912899999999993,100.4307,{"$f":"ROUND(($C7*BI7/$BD7+$C10*BI10/$BD10+$C11*BI11/$BD11+$C12*BI12/$BD12+$C13*BI13/$BD13+$C20*BI20/$BD20+$C21*BI21/$BD21+$C22*BI22/$BD22+$C36*BI36/$BD36+$C37*BI37/$BD37+$C38*BI38/$BD38+$C39*BI39/$BD39)/$C48*100,4)","v":100.3352},99.786500000000004,{"$f":"ROUND(($C7*BK7/$BD7+$C10*BK10/$BD10+$C11*BK11/$BD11+$C12*BK12/$BD12+$C13*BK13/$BD13+$C20*BK20/$BD20+$C21*BK21/$BD21+$C22*BK22/$BD22+$C36*BK36/$BD36+$C37*BK37/$BD37+$C38*BK38/$BD38+$C39*BK39/$BD39)/$C48*100,4)","v":100.66160000000001},100.66370000000001,{"$f":"ROUND(($C7*BM7/$BD7+$C10*BM10/$BD10+$C11*BM11/$BD11+$C12*BM12/$BD12+$C13*BM13/$BD13+$C20*BM20/$BD20+$C21*BM21/$BD21+$C22*BM22/$BD22+$C36*BM36/$BD36+$C37*BM37/$BD37+$C38*BM38/$BD38+$C39*BM39/$BD39)/$C48*100,4)","v":100.78870000000001},100.0742,{"$f":"ROUND(($C7*BO7/$BD7+$C10*BO10/$BD10+$C11*BO11/$BD11+$C12*BO12/$BD12+$C13*BO13/$BD13+$C20*BO20/$BD20+$C21*BO21/$BD21+$C22*BO22/$BD22+$C36*BO36/$BD36+$C37*BO37/$BD37+$C38*BO38/$BD38+$C39*BO39/$BD39)/$C48*100,4)","v":100.94159999999999},100.63460000000001,{"$f":"ROUND(($C7*BQ7/$BD7+$C10*BQ10/$BD10+$C11*BQ11/$BD11+$C12*BQ12/$BD12+$C13*BQ13/$BD13+$C20*BQ20/$BD20+$C21*BQ21/$BD21+$C22*BQ22/$BD22+$C36*BQ36/$BD36+$C37*BQ37/$BD37+$C38*BQ38/$BD38+$C39*BQ39/$BD39)/$C48*100,4)","v":100.3167},101.1606,{"$f":"ROUND(($C7*BS7/$BD7+$C10*BS10/$BD10+$C11*BS11/$BD11+$C12*BS12/$BD12+$C13*BS13/$BD13+$C20*BS20/$BD20+$C21*BS21/$BD21+$C22*BS22/$BD22+$C36*BS36/$BD36+$C37*BS37/$BD37+$C38*BS38/$BD38+$C39*BS39/$BD39)/$C48*100,4)","v":101.6229},101.78319999999999,{"$f":"ROUND(($C7*BU7/$BD7+$C10*BU10/$BD10+$C11*BU11/$BD11+$C12*BU12/$BD12+$C13*BU13/$BD13+$C20*BU20/$BD20+$C21*BU21/$BD21+$C22*BU22/$BD22+$C36*BU36/$BD36+$C37*BU37/$BD37+$C38*BU38/$BD38+$C39*BU39/$BD39)/$C48*100,4)","v":101.34439999999999},101.6506,{"$f":"ROUND(($C7*BW7/$BD7+$C10*BW10/$BD10+$C11*BW11/$BD11+$C12*BW12/$BD12+$C13*BW13/$BD13+$C20*BW20/$BD20+$C21*BW21/$BD21+$C22*BW22/$BD22+$C36*BW36/$BD36+$C37*BW37/$BD37+$C38*BW38/$BD38+$C39*BW39/$BD39)/$C48*100,4)","v":101.9635},101.4716,{"$f":"ROUND(($C7*BY7/$BD7+$C10*BY10/$BD10+$C11*BY11/$BD11+$C12*BY12/$BD12+$C13*BY13/$BD13+$C20*BY20/$BD20+$C21*BY21/$BD21+$C22*BY22/$BD22+$C36*BY36/$BD36+$C37*BY37/$BD37+$C38*BY38/$BD38+$C39*BY39/$BD39)/$C48*100,4)","v":101.1262},100.6211,{"$f":"ROUND(($C7*CA7/$BD7+$C10*CA10/$BD10+$C11*CA11/$BD11+$C12*CA12/$BD12+$C13*CA13/$BD13+$C20*CA20/$BD20+$C21*CA21/$BD21+$C22*CA22/$BD22+$C36*CA36/$BD36+$C37*CA37/$BD37+$C38*CA38/$BD38+$C39*CA39/$BD39)/$C48*100,4)","v":100.7401},99.630499999999998,{"$f":"ROUND(($C7*CC7/$BD7+$C10*CC10/$BD10+$C11*CC11/$BD11+$C12*CC12/$BD12+$C13*CC13/$BD13+$C20*CC20/$BD20+$C21*CC21/$BD21+$C22*CC22/$BD22+$C36*CC36/$BD36+$C37*CC37/$BD37+$C38*CC38/$BD38+$C39*CC39/$BD39)/$C48*100,4)","v":98.726500000000001},98.491200000000006,{"$f":"ROUND(($C7*CE7/$BD7+$C10*CE10/$BD10+$C11*CE11/$BD11+$C12*CE12/$BD12+$C13*CE13/$BD13+$C20*CE20/$BD20+$C21*CE21/$BD21+$C22*CE22/$BD22+$C36*CE36/$BD36+$C37*CE37/$BD37+$C38*CE38/$BD38+$C39*CE39/$BD39)/$C48*100,4)","v":98.167599999999993},96.174199999999999,{"$f":"ROUND(($C7*CG7/$BD7+$C10*CG10/$BD10+$C11*CG11/$BD11+$C12*CG12/$BD12+$C13*CG13/$BD13+$C20*CG20/$BD20+$C21*CG21/$BD21+$C22*CG22/$BD22+$C36*CG36/$BD36+$C37*CG37/$BD37+$C38*CG38/$BD38+$C39*CG39/$BD39)/$C48*100,4)","v":96.093999999999994},96.266499999999994,{"$f":"ROUND(($C7*CI7/$BD7+$C10*CI10/$BD10+$C11*CI11/$BD11+$C12*CI12/$BD12+$C13*CI13/$BD13+$C20*CI20/$BD20+$C21*CI21/$BD21+$C22*CI22/$BD22+$C36*CI36/$BD36+$C37*CI37/$BD37+$C38*CI38/$BD38+$C39*CI39/$BD39)/$C48*100,4)","v":96.938999999999993}]
["Index Schnittholz alte Basis",null,null,100.91419999999999,103.294,104.7727,103.4288,102.9688,102.65,102.5231,102.1442,102.35680000000001,101.1088,100.9563,102.0448,98.123999999999995,98.326800000000006,97.736800000000002,98.679900000000004,99.101299999999995,98.302000000000007,98.948499999999996,97.919700000000006,99.440700000000007,100.11920000000001,100,100.21720000000001,99.593599999999995,99.4452,98.601100000000002,98.0047,96.872,97.064899999999994,96.681299999999993,96.563500000000005,95.880300000000005,96.201400000000007,95.4011,95.599599999999995,94.649100000000004,95.638099999999994,95.723200000000006,96.867999999999995,97.564899999999994,98.106899999999996,97.659700000000001,98.778300000000002,98.812899999999999,96.892700000000005,96.666200000000003,97.516800000000003,95.264600000000002,92.859099999999998,92.869399999999999,92.855999999999995,92.686300000000003]
["Index Schnittholz Internet BFS",null,null,null,null,null,null,null,null,null,null,null,null,null,null,null,null,null,null,null,null,null,null,null,null,null,null,107.45229999999999,107.29219999999999,106.3815,105.7381,104.51600000000001,104.72410000000001,104.31019999999999,104.1831,103.446,103.7925,102.929,103.14319999999999,102.1177,103.18470000000001,103.2765,104.5117,105.2636,105.84829999999999,105.36579999999999,106.5727,106.61,104.53830000000001,104.29389999999999,105.21169999999999,102.7817,100.18640000000001,100.19750000000001,100.1831,100,100.0928,100.7974,99.912899999999993,100.4307,100.3352,99.786500000000004,100.66160000000001,100.66370000000001,100.78870000000001,100.0742,100.94159999999999,100.63460000000001,100.3167,101.1606,101.6229,101.78319999999999,101.34439999999999,101.6506,101.9635,101.4716,101.1262,100.6211,100.7401,99.630499999999998,98.726500000000001,98.491200000000006,98.167599999999993,96.174199999999999,96.093999999999994]
["Kontrolle",null,null,null,null,null,null,null,null,null,null,null,null,null,null,null,null,null,null,null,null,null,null,null,null,{"$f":"Z48-Z50","v":107.8908},null,{"$f":"AB48-AB50","v":0},{"$f":"AC48-AC50","v":0},{"$f":"AD48-AD50","v":0},{"$f":"AE48-AE50","v":0},{"$f":"AF48-AF50","v":0},{"$f":"AG48-AG50","v":0},{"$f":"AH48-AH50","v":0},{"$f":"AI48-AI50","v":0},{"$f":"AJ48-AJ50","v":0},{"$f":"AK48-AK50","v":0},{"$f":"AL48-AL50","v":0},{"$f":"AM48-AM50","v":0},{"$f":"AN48-AN50","v":0},{"$f":"AO48-AO50","v":0},{"$f":"AP48-AP50","v":0},{"$f":"AQ48-AQ50","v":0},{"$f":"AR48-AR50","v":0},{"$f":"AS48-AS50","v":0},{"$f":"AT48-AT50","v":0},{"$f":"AU48-AU50","v":0},{"$f":"AV48-AV50","v":0},{"$f":"AW48-AW50","v":0},{"$f":"AX48-AX50","v":0},{"$f":"AY48-AY50","v":0},{"$f":"AZ48-AZ50","v":0},{"$f":"BA48-BA50","v":0},{"$f":"BB48-BB50","v":0},{"$f":"BC48-BC50","v":0},{"$f":"BD48-BD50","v":0},{"$f":"BE48-BE50","v":0},0,0,0,0,0,0,{"$f":"BL48-BL50","v":0},0,{"$f":"BN48-BN50","v":0},0,0,{"$f":"BQ48-BQ50","v":0},0,{"$f":"BS48-BS50","v":0},0,{"$f":"BU48-BU50","v":0},0,{"$f":"BW48-BW50","v":0},0,{"$f":"BY48-BY50","v":0},0,{"$f":"CA48-CA50","v":0},0,{"$f":"CC48-CC50","v":0},0,{"$f":"CE48-CE50","v":0},0,{"$f":"CG48-CG50","v":0},96.266499999999994,{"$f":"CI48-CI50","v":96.938999999999993}]
["Index Schnittholz",null,null,{"$f":"(D$48-100)/100","v":8.8770999999999989E-2},{"$f":"(E$48-100)/100","v":0.11444699999999998},0.13040099999999996,0.11590199999999996,0.11093900000000005,0.10749899999999997,0.10613,0.10204200000000001,0.10433599999999998,9.0871000000000063E-2,8.9226000000000028E-2,0.10096999999999995,5.8667999999999977E-2,6.0855999999999993E-2,5.4489999999999983E-2,6.4664999999999959E-2,6.9211999999999996E-2,6.0588000000000052E-2,6.7562999999999956E-2,5.6464E-2,7.287400000000005E-2,8.0194000000000043E-2,7.8907999999999992E-2,8.1251000000000032E-2,7.4522999999999937E-2,7.2921999999999945E-2,6.3815000000000024E-2,5.7381000000000029E-2,4.5160000000000054E-2,4.7241000000000068E-2,4.3101999999999946E-2,4.1830999999999958E-2,3.4459999999999977E-2,3.7925000000000042E-2,2.9290000000000021E-2,3.1431999999999932E-2,2.1176999999999991E-2,3.1847000000000063E-2,3.2764999999999989E-2,4.5117000000000046E-2,5.2635999999999968E-2,5.8482999999999945E-2,5.3657999999999928E-2,6.572699999999998E-2,6.6099999999999992E-2,4.5383000000000069E-2,4.2938999999999936E-2,5.2116999999999934E-2,2.7817000000000008E-2,1.8640000000000611E-3,1.9750000000000514E-3,1.8309999999999605E-3,0,9.2799999999996889E-4,7.9739999999999603E-3,-8.7100000000006617E-4,4.3070000000000165E-3,3.3520000000000038E-3,-2.1349999999999624E-3,6.6160000000000706E-3,6.6370000000000569E-3,7.8870000000000572E-3,7.4200000000004709E-4,9.41599999999994E-3,6.3460000000000608E-3,3.1669999999999732E-3,1.1606000000000023E-2,1.6229000000000014E-2,1.7831999999999938E-2,1.3443999999999932E-2,1.6505999999999972E-2,1.9634999999999962E-2,1.4715999999999951E-2,1.1261999999999972E-2,6.2109999999999839E-3,7.4009999999999822E-3,-3.6950000000000216E-3,-1.2734999999999986E-2,-1.5087999999999937E-2,-1.8324000000000069E-2,-3.8258000000000007E-2,-3.906000000000006E-2,-3.7335000000000063E-2,-3.0610000000000071E-2]

{"sheet":"Restholzpreise","index":2,"n_rows":21,"n_cols":88,"rows_kept":21,"cut":false,"hidden":true,"merged":[[9,0,9,2],[12,0,12,2],[15,0,15,2],[18,0,18,2],[20,0,20,2]]}
["Restholzpreise"]
["(Durchschnittspreise, mengengewichtet)"]
[null,null,null,"Gewichtung "]
["Sortiment",null,"Einheit","HIS Index","2007-1","2007-2","2007-3","2007-4","2007-5","2007-6","2008-1","2008-2","2008-3","2008-4","2008-5","2008-6","2009-1","2009-2","2009-3","2009-4","2009-5","2009-6","2010-1","2010-2","2010-3","2010-4","2010-5","2010-6","2011-1","2011-2","2011-3","2011-4","2011-5","2011-6","2012-1","2012-2","2012-3","2012-4","2012-5","2012-6","2013-1","2013-2","2013-3","2013-4","2013-5","2013-6","2014-1","2014-2","2014-3","2014-4","2014-5","2014-6","2015-1","2015-2","2015-3","2015-4","2015-5","2015-6","2016-1","2016-2","2016-3","2016-4","2016-5","2016-6","2017-1","2017-2","2017-3","2017-4","2017-5","2017-6","2018-1","2018-2","2018-3","2018-4","2018-5","2018-6","2019-1","2019-2","2019-3","2019-4","2019-5","2019-6","2020-1","2020-2","2020-3","2020-4","2020-5","2020-6"]
[]
["Hackschnitzel","mit Rinde, ab Werk","[Fr./SRm]",13,15.6,14.3,13,13.1,12.8,12.5,14.1,14,13.5,13.3,13.7,13.5,14,15,15.4,14.2,13.9,13.5,15.7,15.2,15.4,15.9,16.8,17.399999999999999,17.100000000000001,17.7,17.3,16.5,16.100000000000001,16.2,15.1,15,15,14.7,15.2,15.2,15.4,15.1,14.9,14.2,13.7,14.2,13.9,13.3,12.7,13,12.9,13,12.8,12.1,12.4,12.6,12.9,13.2,13.2,12.9,12.8,12.9,12.9,12.6,12.5,12.3,12.6,12.9,13,13.3,13.4,13.8,13.6,14.2,14.7,14.6,14.7,14.4,14.2,13.9,13.5,12.9,12.7,12.6,13,11.1,11.3,10]
["(keine Brennschnitzel)","ohne Rinde, ab Werk","[Fr./SRm]",67,19.600000000000001,19.7,17.7,17.5,18,17.7,19.399999999999999,19.2,19.100000000000001,18.899999999999999,17.7,18.2,16.899999999999999,16.600000000000001,17.600000000000001,17.8,17.100000000000001,17.2,18.5,18.5,18.399999999999999,19.2,19,19.600000000000001,18.600000000000001,19.2,19.600000000000001,19,17.399999999999999,17.2,17.5,17.3,17.2,17.100000000000001,16.899999999999999,17.2,17.600000000000001,17.8,18,18.399999999999999,18.3,18.899999999999999,19.3,19.2,18.7,17.600000000000001,17.399999999999999,17.8,17.5,17.2,17.399999999999999,17.8,17.5,17.5,17.399999999999999,17.2,17.3,17.100000000000001,16.899999999999999,17.2,16.600000000000001,16.7,16.899999999999999,17.3,16.600000000000001,16.5,16.7,17.100000000000001,17.399999999999999,16.399999999999999,15.7,15.8,16,15.8,15.6,15.7,14.7,13.1,13.4,13.6,13.3,12.2,11.5,11.7]
[null,"ohne Rinde, franko Werk","[Fr./t atro]",20,173.2,179.2,166.1,166.2,162.30000000000001,161.4,169.2,158.4,160.80000000000001,160.80000000000001,155.4,156.9,153.80000000000001,157.69999999999999,157.19999999999999,161.69999999999999,161.80000000000001,164.6,166.4,163.9,169.5,173.1,175.1,173.6,171.4,174.1,175.8,170.1,168.6,169.2,171.7,161.1,163.9,163.1,162.69999999999999,167,166.3,166.4,167.2,170.5,171.3,172.9,173.4,169.9,166.9,159.80000000000001,159.30000000000001,159.5,156.69999999999999,152.69999999999999,152.4,153.30000000000001,150.19999999999999,151.1,149.6,147.4,146.6,143.19999999999999,141.6,141.9,140.30000000000001,139.1,140.6,141.6,140.5,141,141.69999999999999,142.9,143.1,142.19999999999999,141.19999999999999,143.19999999999999,144,134.19999999999999,136.1,133.80000000000001,131.9,130.1,131.19999999999999,126.3,129.19999999999999,128.30000000000001,129,126.2]
["Brennschnitzel","franko Kunde","[Fr./SRm]",0,null,null,null,null,null,null,30.2,28.3,25.8,22.1,31.5,32.1,32.1,29.3,24.8,21.7,25.5,27.2,28.4,26.4,24.3,22.1,24.7,25.8,28.6,29.9,30.4,27.3,25.8,26.7,30.7,27.9,25.4,23.4,25.5,29.9,29.8,30.2,28.9,29.2,27.1,31,30.2,30.7,28.8,25.1,25.9,32.1,30.1,28.8,28.6,29.1,31,30.8,29.1,28.7,26.3,29,27.2,29.2,30.2,30.5,28.5,27,28,28.9,30,28.2,26.4,26,25.7,26.4,27.7,26.7,25.2,24,26.6,26.7,25.7,24.3,24.1,23.8,24.6,22.7]
["Index Preise Hackschnitzel (ohne Brennschnitzel)",null,null,{"$f":"SUM(D6:D9)","v":100},{"$f":"($D6*E6/$BE6+$D7*E7/$BE7+$D8*E8/$BE8+$D9*E9/$BE9)/$D10-1","v":0.13823513454928316},{"$f":"($D6*F6/$BE6+$D7*F7/$BE7+$D8*F8/$BE8+$D9*F9/$BE9)/$D10-1","v":0.13695227832067403},2.9836665767164705E-2,2.3320430640283218E-2,3.4246956070385304E-2,1.8539583840224694E-2,0.11013548093129422,8.7089760570254748E-2,8.1418168466408147E-2,7.1745521733296291E-2,2.2643259559421036E-2,4.1767949710463492E-2,-7.0925487316283453E-3,-3.3076677386961739E-3,3.8343275337571425E-2,3.9899405591363513E-2,1.0209305569687244E-2,1.3735231430075601E-2,8.807400689814826E-2,7.970635240130175E-2,8.5350009216209388E-2,0.12581094885667388,0.12988668928693081,0.15690729260211222,0.11266889507235089,0.14528204166316439,0.15882896809422076,0.12020564385912924,5.2920156365893867E-2,4.7069700200397246E-2,5.0799037975206129E-2,2.8019629198720697E-2,2.7919419953904345E-2,2.0002346373163782E-2,1.6851340036835305E-2,3.4062753390458944E-2,5.0460452434775149E-2,5.52274952702414E-2,6.1934380589630855E-2,7.4588543883165048E-2,6.678645910288683E-2,9.6927140040669268E-2,0.1098839489023864,9.5348413116214115E-2,6.6164370577141085E-2,1.7619279425144629E-2,8.2886056686322096E-3,2.4876954905456383E-2,7.647374560018072E-3,-1.6218834982666075E-2,-5.9379036884007474E-3,1.2590288032346741E-2,0,4.2216579444462887E-3,-1.6042503682797138E-3,-1.5214076469469262E-2,-1.3458503317098081E-2,{"$f":"($D6*BJ6/$BE6+$D7*BJ7/$BE7+$D8*BJ8/$BE8+$D9*BJ9/$BE9)/$D10-1","v":-2.4635191173673077E-2},-3.44228267072475E-2,{"$f":"($D6*BL6/$BE6+$D7*BL7/$BE7+$D8*BL8/$BE8+$D9*BL9/$BE9)/$D10-1","v":-2.5560900858655811E-2},-5.167057404450015E-2,{"$f":"($D6*BN6/$BE6+$D7*BN7/$BE7+$D8*BN8/$BE8+$D9*BN9/$BE9)/$D10-1","v":-5.1455375999221342E-2},-3.8777640443970696E-2,{"$f":"($D6*BP6/$BE6+$D7*BP7/$BE7+$D8*BP8/$BE8+$D9*BP9/$BE9)/$D10-1","v":-1.9108540992961776E-2},-4.6365502770023825E-2,{"$f":"($D6*BR6/$BE6+$D7*BR7/$BE7+$D8*BR8/$BE8+$D9*BR9/$BE9)/$D10-1","v":-4.6505039423257011E-2},-3.6908054082190889E-2,{"$f":"($D6*BT6/$BE6+$D7*BT7/$BE7+$D8*BT8/$BE8+$D9*BT9/$BE9)/$D10-1","v":-1.596489110864352E-2},-6.2283691143444342E-3,{"$f":"($D6*BV6/$BE6+$D7*BV7/$BE7+$D8*BV8/$BE8+$D9*BV9/$BE9)/$D10-1","v":-3.9665973902644591E-2},-6.2758772135491636E-2,{"$f":"($D6*BX6/$BE6+$D7*BX7/$BE7+$D8*BX8/$BE8+$D9*BX9/$BE9)/$D10-1","v":-5.7274836799365292E-2},-4.7544695666022263E-2,{"$f":"($D6*BZ6/$BE6+$D7*BZ7/$BE7+$D8*BZ8/$BE8+$D9*BZ9/$BE9)/$D10-1","v":-7.1274361980260936E-2},-7.8417048660110567E-2,-8.0674316267862922E-2,{"$f":"($D6*CC6/$BE6+$D7*CC7/$BE7+$D8*CC8/$BE8+$D9*CC9/$BE9)/$D10-1","v":-0.12552099835877739},-0.19522145710481253,{"$f":"($D6*CE6/$BE6+$D7*CE7/$BE7+$D8*CE8/$BE8+$D9*CE9/$BE9)/$D10-1","v":-0.18428653298002062},-0.18416177588243376,{"$f":"($D6*CG6/$BE6+$D7*CG7/$BE7+$D8*CG8/$BE8+$D9*CG9/$BE9)/$D10-1","v":-0.18775496444017792},-0.25021493910666182,{"$f":"($D6*CI6/$BE6+$D7*CI7/$BE7+$D8*CI8/$BE8+$D9*CI9/$BE9)/$D10-1","v":-0.27406734468475391},-0.28323933920516453]
["Schwarten/Spreissel","ab Werk","[Fr./Rm]",30,15,14.6,15.5,15.3,15.1,14.6,15.7,14.9,15.4,15.4,15.8,15.5,15.5,14.6,14.8,14.9,14.6,14.7,15.2,15.4,16,17.2,17.3,16.899999999999999,17.8,17.899999999999999,17.399999999999999,16.7,16.2,15.8,16.5,15.7,15.4,15.4,15.7,16.3,16.3,16.5,16.2,16.399999999999999,16.600000000000001,17.100000000000001,17.7,17.600000000000001,17.399999999999999,15.7,15.9,17.3,16.399999999999999,15,14.9,15,14.7,14.8,14.5,13.9,14.5,15.1,15.4,15.3,15.5,15.7,15.9,16.399999999999999,16.3,16.399999999999999,16.7,17.100000000000001,17.600000000000001,17.2,17.399999999999999,16.8,17.2,16.7,16.8,16.7,16.5,16.3,16.7,16.899999999999999,17,16.899999999999999,16.7,16.600000000000001]
[null,"franko Werk","[Fr./t atro]",70,104,103.5,104.3,101.1,103,103.2,104.6,107.3,105.1,106.4,105.5,104.3,99.4,101.6,98.9,98.8,99.5,100.3,101.5,102.1,104.4,105.3,105.8,103.8,104.9,107.1,106.6,102.7,104.3,101.5,104.2,102.9,103.8,105.5,104.8,103.8,104.6,105.6,104.2,104.3,104.5,106.3,108.3,104.6,105.3,104.1,105.3,107.1,105.3,103.8,102.1,102.5,102,100.2,98.4,98.5,100.2,100.8,100.3,99.1,99.3,98.8,100.7,102.2,102.5,103.5,100.9,100.4,100.3,100.5,101.2,102.5,103.6,100.9,99.5,98.6,98.3,97.6,99,99.2,99.8,98.8,98.7,99.8]
["Index Preise Schwarten/Spreissel",null,null,{"$f":"SUM(D11:D12)","v":100},{"$f":"($D11*E11/$BE11+$D12*E12/$BE12)/$D13-1","v":1.9847939175670293E-2},{"$f":"($D11*F11/$BE11+$D12*F12/$BE12)/$D13-1","v":8.2533013205283723E-3},3.2110844337735145E-2,6.0684273709483705E-3,1.5026010404161738E-2,6.1944777911164817E-3,3.8251300520208087E-2,4.0454181672669121E-2,3.5560224089635772E-2,4.4481792717086854E-2,4.6468587434973951E-2,3.2110844337735145E-2,-1.5166066426570701E-3,-4.7859143657462688E-3,-1.9233693477391012E-2,-1.7879151660664228E-2,-1.9197679071628615E-2,-1.1666666666666714E-2,6.7727090836333659E-3,1.4971988795518199E-2,4.300120048019207E-2,7.3667466986794716E-2,7.9139655862344949E-2,5.7250900360144019E-2,8.3167266906762682E-2,0.10030612244897963,8.667066826730685E-2,4.5620248099239591E-2,4.639655862344938E-2,1.9017607042817186E-2,5.1832733093237326E-2,2.6584633853541595E-2,2.6638655462184913E-2,3.8305322128851627E-2,3.9623849539816014E-2,4.5006002400960421E-2,5.0496198479391685E-2,6.144057623049215E-2,4.5710284113645416E-2,5.0478191276510431E-2,5.5932372949179632E-2,7.8489395758303493E-2,0.10445978391356547,7.702681072428974E-2,7.774909963985599E-2,3.4819927971188491E-2,4.7136854741896661E-2,8.8061224489796031E-2,5.7340936374549845E-2,1.8475390156062366E-2,4.767907162865237E-3,9.5538215286115058E-3,0,-1.0312124849940041E-2,-2.8787515006002296E-2,-4.0346138455382152E-2,-1.643457382953184E-2,{"$f":"($D11*BJ11/$BE11+$D12*BJ12/$BE12)/$D13-1","v":-7.2028811524682546E-5},2.6190476190475209E-3,{"$f":"($D11*BL11/$BE11+$D12*BL12/$BE12)/$D13-1","v":-7.6570628251299011E-3},-2.2028811524610337E-3,{"$f":"($D11*BN11/$BE11+$D12*BN12/$BE12)/$D13-1","v":-1.5526210484193559E-3},1.5568227290916337E-2,{"$f":"($D11*BP11/$BE11+$D12*BP12/$BE12)/$D13-1","v":3.6066426570628307E-2},3.6084433773509339E-2,{"$f":"($D11*BR11/$BE11+$D12*BR12/$BE12)/$D13-1","v":4.4987995198079389E-2},3.3267306922769357E-2,{"$f":"($D11*BT11/$BE11+$D12*BT12/$BE12)/$D13-1","v":3.7999199679871865E-2},4.7517006802721085E-2,{"$f":"($D11*BV11/$BE11+$D12*BV12/$BE12)/$D13-1","v":4.0726290516206465E-2},4.9611844737895261E-2,{"$f":"($D11*BX11/$BE11+$D12*BX12/$BE12)/$D13-1","v":4.6288515406162301E-2},6.2000800320128002E-2,{"$f":"($D11*BZ11/$BE11+$D12*BZ12/$BE12)/$D13-1","v":3.3267306922769357E-2},2.5700280112044727E-2,1.7482993197278862E-2,{"$f":"($D11*CC11/$BE11+$D12*CC12/$BE12)/$D13-1","v":1.134253701480592E-2},2.456982793117346E-3,{"$f":"($D11*CE11/$BE11+$D12*CE12/$BE12)/$D13-1","v":2.0228091236494716E-2},2.5682272909163473E-2,{"$f":"($D11*CG11/$BE11+$D12*CG12/$BE12)/$D13-1","v":3.1840736294517669E-2},2.2937174869947841E-2,{"$f":"($D11*CI11/$BE11+$D12*CI12/$BE12)/$D13-1","v":1.8169267707082826E-2},2.3677470988395344E-2]
["Sägespäne","ab Werk","[Fr./SRm]",96,12.8,12.7,10.9,11.2,10.5,11.2,12,12,10.6,10.4,10.7,11.5,13.3,12.7,11.5,11.9,12.7,13.6,13.1,13.3,13.9,14.6,14.2,14.9,15.4,16.600000000000001,16.399999999999999,15.3,14.6,14.8,14.7,14.1,14,14.4,14.3,14.3,14.6,14.9,15,15.1,15.4,16.100000000000001,16.8,16.3,16.399999999999999,15.5,15.3,15,14.6,14,13.6,13.9,13.8,14,13.9,13.5,13.7,14,14.1,14.3,14.5,14.3,14.6,14.7,14.6,14.8,14.5,14.2,14.5,14.1,14.7,15.1,15.3,14.5,14.1,13.8,13.4,13,12.6,12.8,12,10.9,10.9,11.2]
[null,"abgesaugt ab Werk","[Fr./SRm]",4,5.4,6.1,5.5,5.2,5.4,5.4,5.5,5.8,5.3,5.3,5.5,5.6,6.2,5.8,5,5,5.6,5.9,5.4,5.9,6,6.1,6,5.7,6.1,6.6,6.9,7.2,6.7,6.7,6.2,6,5.8,5.5,6.3,6.2,6.5,6.3,6.5,6.5,6.8,7.4,8.1,7.7,7.4,7.5,7.7,7.4,7.2,7,6.4,5.8,5.6,5.7,5.5,5.7,5.8,5.4,5.5,5.7,5.9,6.1,5.9,6.1,5.7,5.4,5.3,5.4,5.6,5.7,5.6,5.4,5.6,5.5,5.4,4.9000000000000004,4.7,4.9000000000000004,5.4,4.5999999999999996,4.7,4.3,4.7,4.8]
["Index Preise Sägespäne",null,null,{"$f":"SUM(D14:D15)","v":100},{"$f":"($D14*E14/$BE14+$D15*E15/$BE15)/$D16-1","v":-7.0993788819875614E-2},{"$f":"($D14*F14/$BE14+$D15*F15/$BE15)/$D16-1","v":-7.2950310559006359E-2},-0.20245341614906831,-0.18372670807453451,-0.23099378881987576,-0.18229813664596295,-0.1259316770186335,-0.12378881987577639,-0.22475155279503112,-0.23866459627329173,-0.21636645962732926,-0.16000000000000003,-3.0496894409937747E-2,-7.5093167701863583E-2,-0.16428571428571426,-0.13645962732919259,-7.6521739130435029E-2,-1.1770186335403832E-2,-5.0124223602484475E-2,-3.2639751552794971E-2,9.8136645962734192E-3,5.9223602484471893E-2,3.0683229813664559E-2,7.7236024844720585E-2,0.11487577639751567,0.20192546583850923,0.1901552795031054,0.11577639751552793,6.3509316770186119E-2,7.7422360248447397E-2,6.6894409937888089E-2,2.3726708074534253E-2,1.5341614906832168E-2,4.1024844720497056E-2,3.9782608695652089E-2,3.9068322981366421E-2,6.2080745341614785E-2,8.1521739130434812E-2,8.9906832298136452E-2,9.686335403726698E-2,0.11987577639751557,0.17285714285714282,0.22655279503105596,0.18891304347826088,0.19372670807453396,0.13183229813664599,0.11934782608695649,9.6335403726708124E-2,6.7080745341614678E-2,2.3913043478260843E-2,-8.1987577639752729E-3,8.3850931677018625E-3,0,1.4627329192546501E-2,6.2422360248448605E-3,-2.0155279503105694E-2,-5.5279503105591932E-3,{"$f":"($D14*BJ14/$BE14+$D15*BJ15/$BE15)/$D16-1","v":1.2484472049689499E-2},2.0155279503105472E-2,{"$f":"($D14*BL14/$BE14+$D15*BL15/$BE15)/$D16-1","v":3.5496894409937862E-2},5.0838509316770031E-2,{"$f":"($D14*BN14/$BE14+$D15*BN15/$BE15)/$D16-1","v":3.8354037267080754E-2},5.7795031055900337E-2,{"$f":"($D14*BP14/$BE14+$D15*BP15/$BE15)/$D16-1","v":6.6180124223602421E-2},5.6366459627329002E-2,{"$f":"($D14*BR14/$BE14+$D15*BR15/$BE15)/$D16-1","v":6.8136645962733056E-2},4.6552795031055805E-2,{"$f":"($D14*BT14/$BE14+$D15*BT15/$BE15)/$D16-1","v":2.6397515527950111E-2},4.8695652173913029E-2,{"$f":"($D14*BV14/$BE14+$D15*BV15/$BE15)/$D16-1","v":2.1583850931677029E-2},6.2608695652173862E-2,{"$f":"($D14*BX14/$BE14+$D15*BX15/$BE15)/$D16-1","v":8.9006211180124195E-2},0.10434782608695659,{"$f":"($D14*BZ14/$BE14+$D15*BZ15/$BE15)/$D16-1","v":4.7981366459627361E-2},1.9440993788819805E-2,-4.9999999999998934E-3,{"$f":"($D14*CC14/$BE14+$D15*CC15/$BE15)/$D16-1","v":-3.4254658385093117E-2},-6.0652173913043561E-2,{"$f":"($D14*CE14/$BE14+$D15*CE15/$BE15)/$D16-1","v":-8.490683229813667E-2},-7.6708074534161286E-2,{"$f":"($D14*CG14/$BE14+$D15*CG15/$BE15)/$D16-1","v":-0.13164596273291918},-0.21102484472049698,{"$f":"($D14*CI14/$BE14+$D15*CI15/$BE15)/$D16-1","v":-0.20816770186335409},-0.18658385093167729]
["Hobelspäne","ab Werk","[Fr./SRm]",65,9.1,8.1999999999999993,7.6,7.2,8.1999999999999993,8.4,7.6,7.8,7.7,8.1,8.8000000000000007,8.9,9.5,10.199999999999999,10.7,11.8,12.9,13.2,12.3,12.5,12.3,11,11.4,12.1,12.3,12.7,12.1,11.6,10.4,10.9,11.5,11,10.3,10.5,9.9,10.3,10.9,11.2,11.2,10.8,10.9,10.7,11.2,11.2,10.9,10.8,11,11,10.3,9.9,10,10.1,10,9.9,9.8000000000000007,9.4,9.6,9.9,10,10.199999999999999,10.5,10.199999999999999,10.5,10.8,10.6,10,9.6999999999999993,9.9,9.6999999999999993,9.6999999999999993,9.4,9.4,9.4,8.9,8.4,9.1999999999999993,9.3000000000000007,10.199999999999999,9.1,9,8.6999999999999993,8.3000000000000007,8.4,8.3000000000000007]
[null,"abgesaugt ab Werk","[Fr./SRm]",35,5.8,5.3,4.5,4,4.9000000000000004,4.7,4.4000000000000004,4.8,4.7,4.7,4.9000000000000004,5,5.9,6.1,5.9,6.3,6.6,6.8,6.6,6.4,6.7,6.9,7.3,7.1,6.8,6.7,6.3,6.3,6.2,6.7,6.9,7.1,6.4,6,5.5,5.4,5.7,6.3,6.4,6.2,6.7,6.7,7,7,6.7,5.7,5.8,5.5,5.0999999999999996,5.2,5.4,5.7,5.5,5.4,5.6,5.3,5.0999999999999996,5,5.2,5.0999999999999996,5.3,5.0999999999999996,5.0999999999999996,5.2,5.6,5.8,5.7,6,5.5,5.2,5.5,5.7,5.6,5.3,5.3,5.3,5.4,4.8,4.9000000000000004,4.9000000000000004,4.0999999999999996,4.3,4.5999999999999996,4.7]
["Index Preise Hobelspäne",null,null,{"$f":"SUM(D17:D18)","v":100},{"$f":"($D17*E17/$BE17+$D18*E18/$BE18)/$D19-1","v":-3.9409090909090838E-2},{"$f":"($D17*F17/$BE17+$D18*F18/$BE18)/$D19-1","v":-0.12972727272727269},-0.21963636363636363,-0.27745454545454551,-0.1551818181818182,-0.15490909090909089,-0.22599999999999998,-0.18754545454545446,-0.20040909090909098,-0.17440909090909085,-0.11618181818181805,-0.10331818181818175,-7.0454545454545769E-3,5.1181818181818217E-2,7.0954545454545492E-2,0.16790909090909101,0.25849999999999995,0.29072727272727272,0.21950000000000003,0.21977272727272723,0.22586363636363638,0.15409090909090906,0.20554545454545448,0.23831818181818187,0.23222727272727273,0.2518636363636364,0.18740909090909108,0.15490909090909089,7.0545454545454467E-2,0.13486363636363619,0.18659090909090903,0.16681818181818198,7.6772727272727437E-2,6.4318181818181941E-2,-6.5000000000000613E-3,1.3136363636363724E-2,7.1227272727272695E-2,0.12890909090909086,0.13527272727272721,9.654545454545449E-2,0.13486363636363619,0.12186363636363629,0.17345454545454553,0.17345454545454553,0.13486363636363619,6.4727272727272744E-2,8.4090909090908994E-2,6.4999999999999947E-2,-5.9545454545454346E-3,-2.5590909090909109E-2,-6.3636363636362381E-3,1.9227272727272871E-2,0,-1.2863636363636299E-2,-6.6363636363635514E-3,-5.1727272727272733E-2,-5.1454545454545531E-2,{"$f":"($D17*BJ17/$BE17+$D18*BJ18/$BE18)/$D19-1","v":-3.8318181818181918E-2},-1.9090909090909047E-2,{"$f":"($D17*BL17/$BE17+$D18*BL18/$BE18)/$D19-1","v":-1.2454545454545496E-2},1.9772727272727275E-2,{"$f":"($D17*BN17/$BE17+$D18*BN18/$BE18)/$D19-1","v":-1.2454545454545496E-2},7.0454545454545769E-3,{"$f":"($D17*BP17/$BE17+$D18*BP18/$BE18)/$D19-1","v":3.2909090909090999E-2},4.5363636363636273E-2,{"$f":"($D17*BR17/$BE17+$D18*BR18/$BE18)/$D19-1","v":1.9090909090909047E-2},-6.7727272727273746E-3,{"$f":"($D17*BT17/$BE17+$D18*BT18/$BE18)/$D19-1","v":2.5318181818181795E-2},-1.9500000000000073E-2,{"$f":"($D17*BV17/$BE17+$D18*BV18/$BE18)/$D19-1","v":-3.859090909090912E-2},-3.9000000000000035E-2,{"$f":"($D17*BX17/$BE17+$D18*BX18/$BE18)/$D19-1","v":-2.6272727272727225E-2},-3.2636363636363686E-2,{"$f":"($D17*BZ17/$BE17+$D18*BZ18/$BE18)/$D19-1","v":-8.4227272727272706E-2},-0.11672727272727268,-6.4727272727272744E-2,{"$f":"($D17*CC17/$BE17+$D18*CC18/$BE18)/$D19-1","v":-5.1863636363636334E-2},-3.1545454545454543E-2,{"$f":"($D17*CE17/$BE17+$D18*CE18/$BE18)/$D19-1","v":-9.6681818181818202E-2},-0.10318181818181815,{"$f":"($D17*CG17/$BE17+$D18*CG18/$BE18)/$D19-1","v":-0.17359090909090913},-0.18686363636363634,{"$f":"($D17*CI17/$BE17+$D18*CI18/$BE18)/$D19-1","v":-0.16127272727272723},-0.16140909090909095]
["Rinde","ab Werk","[Fr./SRm]",100,5.2,4.9000000000000004,4.4000000000000004,4,4.3,4.8,4,4.4000000000000004,4.4000000000000004,4.4000000000000004,4.5999999999999996,4.7,4.5999999999999996,5,5.2,5.6,5.7,5.5,4.8,5.5,5.7,5.3,5.7,5.3,5.4,5.8,6.1,6.3,5.7,6.3,6,6.1,6.2,5.9,5.6,5.6,5.8,5.9,6.1,5.9,6.1,6.3,6.6,6.7,6.6,6.3,6.2,6.5,6.4,5.9,5.9,6.1,5.9,5.6,5.7,5.6,5.8,5.9,6.4,6.2,6.4,6.5,6.6,6.7,6.2,6.5,6.7,6.8,6.1,6,5.8,5.7,5.5,5.3,5.5,5.8,5.9,5.3,5.4,5.6,5.9,5.8,5.9,5.8]
["Index Preis Rinde",null,null,{"$f":"SUM(D20)","v":100},{"$f":"($D20*E20/$BE20)/$D21-1","v":-0.1186440677966103},{"$f":"($D20*F20/$BE20)/$D21-1","v":-0.1694915254237287},-0.25423728813559321,-0.32203389830508489,-0.27118644067796605,-0.18644067796610175,-0.32203389830508489,-0.25423728813559321,-0.25423728813559321,-0.25423728813559321,-0.22033898305084765,-0.20338983050847459,-0.22033898305084765,-0.15254237288135597,-0.1186440677966103,-5.0847457627118731E-2,-3.3898305084745894E-2,-6.7796610169491678E-2,-0.18644067796610175,-6.7796610169491678E-2,-3.3898305084745894E-2,-0.10169491525423735,-3.3898305084745894E-2,-0.10169491525423735,-8.4745762711864514E-2,-1.6949152542372836E-2,3.3898305084745672E-2,6.7796610169491567E-2,-3.3898305084745894E-2,6.7796610169491567E-2,1.6949152542372836E-2,3.3898305084745672E-2,5.0847457627118509E-2,0,-5.0847457627118731E-2,-5.0847457627118731E-2,-1.6949152542372836E-2,0,3.3898305084745672E-2,0,3.3898305084745672E-2,6.7796610169491567E-2,0.11864406779661008,0.13559322033898291,0.11864406779661008,6.7796610169491567E-2,5.0847457627118509E-2,0.10169491525423724,8.4745762711864403E-2,0,0,3.3898305084745672E-2,0,-5.0847457627118731E-2,-3.3898305084745894E-2,-5.0847457627118731E-2,{"$f":"($D20*BI20/$BE20)/$D21-1","v":-1.6949152542372836E-2},0,8.4745762711864403E-2,5.0847457627118509E-2,8.4745762711864403E-2,0.10169491525423724,0.11864406779661008,{"$f":"($D20*BP20/$BE20)/$D21-1","v":0.13559322033898291},5.0847457627118509E-2,{"$f":"($D20*BR20/$BE20)/$D21-1","v":0.10169491525423724},0.13559322033898291,{"$f":"($D20*BT20/$BE20)/$D21-1","v":0.15254237288135575},3.3898305084745672E-2,{"$f":"($D20*BV20/$BE20)/$D21-1","v":1.6949152542372836E-2},-1.6949152542372836E-2,{"$f":"($D20*BX20/$BE20)/$D21-1","v":-3.3898305084745894E-2},-6.7796610169491678E-2,{"$f":"($D20*BZ20/$BE20)/$D21-1","v":-0.10169491525423735},-6.7796610169491678E-2,-1.6949152542372836E-2,{"$f":"($D20*CC20/$BE20)/$D21-1","v":0},-0.10169491525423735,{"$f":"($D20*CE20/$BE20)/$D21-1","v":-8.4745762711864514E-2},-5.0847457627118731E-2,{"$f":"($D20*CG20/$BE20)/$D21-1","v":0},-1.6949152542372836E-2,{"$f":"($D20*CI20/$BE20)/$D21-1","v":0},-1.6949152542372836E-2]

{"sheet":"Preise","index":3,"n_rows":79,"n_cols":9,"rows_kept":79,"cut":false,"hidden":true,"merged":[]}
["Sortiment",null," Jan.-Feb."," März-Apr."," Mai-Juni"," Juli-Aug."," Sept.-Okt."," Nov.-Dez."]
["(Falls keine Angaben alle Schnitthölzer FI/TA)",null,"[Fr./m3]","[Fr./m3]","[Fr./m3]","[Fr./m3]","[Fr./m3]","[Fr./m3]"]
["Vollholz","C24 N, bis 8m, herzgetrennt",{"$f":"Schnittholzpreise!CD7","v":385},{"$f":"Schnittholzpreise!CE7","v":387},{"$f":"Schnittholzpreise!CF7","v":387},{"$f":"Schnittholzpreise!CG7","v":384},{"$f":"Schnittholzpreise!CH7","v":385},{"$f":"Schnittholzpreise!CI7","v":388}]
["Dachlatten","lufttrocken",{"$f":"Schnittholzpreise!CD10","v":372},{"$f":"Schnittholzpreise!CE10","v":372},{"$f":"Schnittholzpreise!CF10","v":366},{"$f":"Schnittholzpreise!CG10","v":363},{"$f":"Schnittholzpreise!CH10","v":363},{"$f":"Schnittholzpreise!CI10","v":367}]
["Doppellatten","lufttrocken",{"$f":"Schnittholzpreise!CD11","v":370},{"$f":"Schnittholzpreise!CE11","v":369},{"$f":"Schnittholzpreise!CF11","v":361},{"$f":"Schnittholzpreise!CG11","v":360},{"$f":"Schnittholzpreise!CH11","v":360},{"$f":"Schnittholzpreise!CI11","v":365}]
["BSH-Lamellen","C24, N, technisch getrocknet",{"$f":"Schnittholzpreise!CD12","v":306},{"$f":"Schnittholzpreise!CE12","v":303},{"$f":"Schnittholzpreise!CF12","v":286},{"$f":"Schnittholzpreise!CG12","v":285},{"$f":"Schnittholzpreise!CH12","v":288},{"$f":"Schnittholzpreise!CI12","v":293}]
[null,"C24, I, technisch getrocknet",{"$f":"Schnittholzpreise!CD13","v":246},{"$f":"Schnittholzpreise!CE13","v":246},{"$f":"Schnittholzpreise!CF13","v":240},{"$f":"Schnittholzpreise!CG13","v":240},{"$f":"Schnittholzpreise!CH13","v":242},{"$f":"Schnittholzpreise!CI13","v":249}]
["Index Bauhol",null,{"$f":"Schnittholzpreise!CD14","v":101.3716},{"$f":"Schnittholzpreise!CE14","v":101.2315},{"$f":"Schnittholzpreise!CF14","v":98.9221},{"$f":"Schnittholzpreise!CG14","v":98.449200000000005},{"$f":"Schnittholzpreise!CH14","v":98.822999999999993},{"$f":"Schnittholzpreise!CI14","v":100.2955}]
["Schalungskantholz","C16, 8/12, gekappt, frisch",{"$f":"Schnittholzpreise!CD20","v":260},{"$f":"Schnittholzpreise!CE20","v":256},{"$f":"Schnittholzpreise!CF20","v":255},{"$f":"Schnittholzpreise!CG20","v":256},{"$f":"Schnittholzpreise!CH20","v":255},{"$f":"Schnittholzpreise!CI20","v":251}]
["Schalbretter","C16, roh, fix breit, frisch",{"$f":"Schnittholzpreise!CD21","v":253},{"$f":"Schnittholzpreise!CE21","v":253},{"$f":"Schnittholzpreise!CF21","v":245},{"$f":"Schnittholzpreise!CG21","v":246},{"$f":"Schnittholzpreise!CH21","v":248},{"$f":"Schnittholzpreise!CI21","v":253}]
["Gerüstbretter","C24, fix breit, gekappt, frisch",{"$f":"Schnittholzpreise!CD22","v":285},{"$f":"Schnittholzpreise!CE22","v":285},{"$f":"Schnittholzpreise!CF22","v":278},{"$f":"Schnittholzpreise!CG22","v":283},{"$f":"Schnittholzpreise!CH22","v":282},{"$f":"Schnittholzpreise!CI22","v":281}]
["Index Preise Arbeitsmittel",null,{"$f":"Schnittholzpreise!CD23","v":97.320700000000002},{"$f":"Schnittholzpreise!CE23","v":96.768699999999995},{"$f":"Schnittholzpreise!CF23","v":94.922700000000006},{"$f":"Schnittholzpreise!CG23","v":95.755899999999997},{"$f":"Schnittholzpreise!CH23","v":95.723799999999997},{"$f":"Schnittholzpreise!CI23","v":95.611800000000002}]
["Kistenbretter","5, Breitware, lufttrocken",{"$f":"Schnittholzpreise!CD36","v":224},{"$f":"Schnittholzpreise!CE36","v":220},{"$f":"Schnittholzpreise!CF36","v":220},{"$f":"Schnittholzpreise!CG36","v":218},{"$f":"Schnittholzpreise!CH36","v":218},{"$f":"Schnittholzpreise!CI36","v":219}]
["Verpackungskantholz","5, lufttrocken",{"$f":"Schnittholzpreise!CD37","v":202},{"$f":"Schnittholzpreise!CE37","v":201},{"$f":"Schnittholzpreise!CF37","v":193},{"$f":"Schnittholzpreise!CG37","v":189},{"$f":"Schnittholzpreise!CH37","v":188},{"$f":"Schnittholzpreise!CI37","v":187}]
["Palettenbretter","5, frisch",{"$f":"Schnittholzpreise!CD38","v":157},{"$f":"Schnittholzpreise!CE38","v":159},{"$f":"Schnittholzpreise!CF38","v":153},{"$f":"Schnittholzpreise!CG38","v":147},{"$f":"Schnittholzpreise!CH38","v":147},{"$f":"Schnittholzpreise!CI38","v":154}]
["Paletten-Kantholz","5, frisch",{"$f":"Schnittholzpreise!CD39","v":161},{"$f":"Schnittholzpreise!CE39","v":164},{"$f":"Schnittholzpreise!CF39","v":167},{"$f":"Schnittholzpreise!CG39","v":167},{"$f":"Schnittholzpreise!CH39","v":168},{"$f":"Schnittholzpreise!CI39","v":158}]
["Index Hpolverpackungs- und paletteware",null,{"$f":"Schnittholzpreise!CD40","v":90.196200000000005},{"$f":"Schnittholzpreise!CE40","v":89.831299999999999},{"$f":"Schnittholzpreise!CF40","v":88.687799999999996},{"$f":"Schnittholzpreise!CG40","v":87.351500000000001},{"$f":"Schnittholzpreise!CH40","v":87.333299999999994},{"$f":"Schnittholzpreise!CI40","v":87.156599999999997}]
["Zuschlag ISPM 15","(Nicht mengengewichtet)",{"$f":"Schnittholzpreise!CD46","v":30},{"$f":"Schnittholzpreise!CE46","v":30},{"$f":"Schnittholzpreise!CF46","v":30},{"$f":"Schnittholzpreise!CG46","v":28},{"$f":"Schnittholzpreise!CH46","v":29},{"$f":"Schnittholzpreise!CI46","v":29}]
["Index Schnittholz BFS",null,{"$f":"Schnittholzpreise!CD48","v":98.491200000000006},{"$f":"Schnittholzpreise!CE48","v":98.167599999999993},{"$f":"Schnittholzpreise!CF48","v":96.174199999999999},{"$f":"Schnittholzpreise!CG48","v":96.093999999999994},{"$f":"Schnittholzpreise!CH48","v":96.266499999999994},{"$f":"Schnittholzpreise!CI48","v":96.938999999999993}]
[]
["Assortiment",null," Janv.-Fév."," Mars-Avr."," Mai-Juin"," Juill.-Août"," Sept.-Oct."," Nov.-Déc."]
["(Sauf indication, tous les sciage EP/SA)",null,"[Fr./m3]","[Fr./m3]","[Fr./m3]","[Fr./m3]","[Fr./m3]","[Fr./m3]"]
["Bois massif ","C24, N, jusqu'à 8m, coeur refendu, frais",{"$f":"C3","v":385},387,387,384,385,388]
["Lattes à tuiles ","séché à l'air",372,372,366,363,363,367]
["Lattes doubles","séché à l'air",370,369,361,360,360,365]
["Lames pour le bois lamellé-collé ","C24, N, séché techniquement",306,303,286,285,288,293]
["Lames pour le bois lamellé-collé ","C24, I, séché techniquement",246,246,240,240,242,249]
["Indice bois de charpente",null,101.3716,101.2315,98.9221,98.449200000000005,98.822999999999993,100.2955]
["Carrelets de coffrage ","C16, 8/12, tronçonné, frais",260,256,255,256,255,251]
["Planches de coffrage ","C16, brut, largeur fixe, frais",253,253,245,246,248,253]
["Planches d'échafaudage ","C24, largeur fixe, tronçonné, frais",285,285,278,283,282,281]
["Indice prix matériel de chantier",null,97.320700000000002,96.768699999999995,94.922700000000006,95.755899999999997,95.723799999999997,95.611800000000002]
["Planches pour caisses ","5, grande largeur, séché à l'air",224,220,220,218,218,219]
["Carrelets d'emballage ","5, séché à l'air",202,201,193,189,188,187]
["Planches pour palettes EURO ","5, frais",157,159,153,147,147,154]
["Carrelets pour palettes ","5, frais",161,164,167,167,168,158]
["Indice bois d'emballages et palettes",null,90.196200000000005,89.831299999999999,88.687799999999996,87.351500000000001,87.333299999999994,87.156599999999997]
["Supplément NIMP 15 ","(Non pondéré par le volume)",30,30,30,28,29,29]
["Indice sciage OFS",null,{"$f":"C19","v":98.491200000000006},98.167599999999993,96.174199999999999,96.093999999999994,96.266499999999994,96.938999999999993]
[]
[]
[]
["Sortiment",null,"Einheit"," Jan.-Feb."," März-Apr."," Mai-Juni"," Juli-Aug."," Sept.-Okt."," Nov.-Dez."]
["Hackschnitzel","Mit Rinde, ab Werk","[Fr./SRm]",{"$f":"Restholzpreise!CE6","v":12.7},{"$f":"Restholzpreise!CF6","v":12.6},{"$f":"Restholzpreise!CG6","v":13},{"$f":"Restholzpreise!CH6","v":11.1},{"$f":"Restholzpreise!CI6","v":11.3},{"$f":"Restholzpreise!CJ6","v":10}]
[null,"Ohne Rinde, ab Werk","[Fr./SRm]",{"$f":"Restholzpreise!CE7","v":13.4},{"$f":"Restholzpreise!CF7","v":13.6},{"$f":"Restholzpreise!CG7","v":13.3},{"$f":"Restholzpreise!CH7","v":12.2},{"$f":"Restholzpreise!CI7","v":11.5},{"$f":"Restholzpreise!CJ7","v":11.7}]
[null,"Ohne Rinde, franko","[Fr./t atro]",{"$f":"Restholzpreise!CE8","v":131.19999999999999},{"$f":"Restholzpreise!CF8","v":126.3},{"$f":"Restholzpreise!CG8","v":129.19999999999999},{"$f":"Restholzpreise!CH8","v":128.30000000000001},{"$f":"Restholzpreise!CI8","v":129},{"$f":"Restholzpreise!CJ8","v":126.2}]
["Brennschnitzel","Franko Kunde","[Fr./SRm]",{"$f":"Restholzpreise!CE9","v":25.7},{"$f":"Restholzpreise!CF9","v":24.3},{"$f":"Restholzpreise!CG9","v":24.1},{"$f":"Restholzpreise!CH9","v":23.8},{"$f":"Restholzpreise!CI9","v":24.6},{"$f":"Restholzpreise!CJ9","v":22.7}]
["Index Hackschnitzel (ohne Brennschnitzel)",null,null,{"$f":"(Restholzpreise!CE10+1)*100","v":81.571346701997939},{"$f":"(Restholzpreise!CF10+1)*100","v":81.583822411756628},{"$f":"(Restholzpreise!CG10+1)*100","v":81.22450355598221},{"$f":"(Restholzpreise!CH10+1)*100","v":74.97850608933382},{"$f":"(Restholzpreise!CI10+1)*100","v":72.593265531524608},{"$f":"(Restholzpreise!CJ10+1)*100","v":71.676066079483547}]
["Schwarten/Spreissel","Ab Werk","[Fr./SRm]",{"$f":"Restholzpreise!CE11","v":16.7},{"$f":"Restholzpreise!CF11","v":16.899999999999999},{"$f":"Restholzpreise!CG11","v":17},{"$f":"Restholzpreise!CH11","v":16.899999999999999},{"$f":"Restholzpreise!CI11","v":16.7},{"$f":"Restholzpreise!CJ11","v":16.600000000000001}]
[null,"Franko Werk","[Fr./t atro]",{"$f":"Restholzpreise!CE12","v":99},{"$f":"Restholzpreise!CF12","v":99.2},{"$f":"Restholzpreise!CG12","v":99.8},{"$f":"Restholzpreise!CH12","v":98.8},{"$f":"Restholzpreise!CI12","v":98.7},{"$f":"Restholzpreise!CJ12","v":99.8}]
["Index Schwarten/Spreissel",null,null,{"$f":"(Restholzpreise!CE13+1)*100","v":102.02280912364947},{"$f":"(Restholzpreise!CF13+1)*100","v":102.56822729091635},{"$f":"(Restholzpreise!CG13+1)*100","v":103.18407362945177},{"$f":"(Restholzpreise!CH13+1)*100","v":102.29371748699478},{"$f":"(Restholzpreise!CI13+1)*100","v":101.81692677070828},{"$f":"(Restholzpreise!CJ13+1)*100","v":102.36774709883953}]
["Sägespäne","Ab Werk","[Fr./SRm]",{"$f":"Restholzpreise!CE14","v":12.6},{"$f":"Restholzpreise!CF14","v":12.8},{"$f":"Restholzpreise!CG14","v":12},{"$f":"Restholzpreise!CH14","v":10.9},{"$f":"Restholzpreise!CI14","v":10.9},{"$f":"Restholzpreise!CJ14","v":11.2}]
[null,"Abgesaugt, ab Werk","[Fr./SRm]",{"$f":"Restholzpreise!CE15","v":5.4},{"$f":"Restholzpreise!CF15","v":4.5999999999999996},{"$f":"Restholzpreise!CG15","v":4.7},{"$f":"Restholzpreise!CH15","v":4.3},{"$f":"Restholzpreise!CI15","v":4.7},{"$f":"Restholzpreise!CJ15","v":4.8}]
["Index Sägespäne",null,null,{"$f":"(Restholzpreise!CE16+1)*100","v":91.509316770186331},{"$f":"(Restholzpreise!CF16+1)*100","v":92.329192546583869},{"$f":"(Restholzpreise!CG16+1)*100","v":86.83540372670808},{"$f":"(Restholzpreise!CH16+1)*100","v":78.897515527950304},{"$f":"(Restholzpreise!CI16+1)*100","v":79.183229813664596},{"$f":"(Restholzpreise!CJ16+1)*100","v":81.341614906832277}]
["Hobelspäne","Ab Werk","[Fr./SRm]",{"$f":"Restholzpreise!CE17","v":9.1},{"$f":"Restholzpreise!CF17","v":9},{"$f":"Restholzpreise!CG17","v":8.6999999999999993},{"$f":"Restholzpreise!CH17","v":8.3000000000000007},{"$f":"Restholzpreise!CI17","v":8.4},{"$f":"Restholzpreise!CJ17","v":8.3000000000000007}]
[null,"Abgesaugt, ab Werk","[Fr./SRm]",{"$f":"Restholzpreise!CE18","v":4.9000000000000004},{"$f":"Restholzpreise!CF18","v":4.9000000000000004},{"$f":"Restholzpreise!CG18","v":4.0999999999999996},{"$f":"Restholzpreise!CH18","v":4.3},{"$f":"Restholzpreise!CI18","v":4.5999999999999996},{"$f":"Restholzpreise!CJ18","v":4.7}]
["Index Hobelspäne",null,null,{"$f":"(Restholzpreise!CE19+1)*100","v":90.331818181818178},{"$f":"(Restholzpreise!CF19+1)*100","v":89.681818181818187},{"$f":"(Restholzpreise!CG19+1)*100","v":82.640909090909091},{"$f":"(Restholzpreise!CH19+1)*100","v":81.313636363636363},{"$f":"(Restholzpreise!CI19+1)*100","v":83.872727272727275},{"$f":"(Restholzpreise!CJ19+1)*100","v":83.859090909090909}]
["Rinde","Ab Werk","[Fr./SRm]",{"$f":"Restholzpreise!CE20","v":5.4},{"$f":"Restholzpreise!CF20","v":5.6},{"$f":"Restholzpreise!CG20","v":5.9},{"$f":"Restholzpreise!CH20","v":5.8},{"$f":"Restholzpreise!CI20","v":5.9},{"$f":"Restholzpreise!CJ20","v":5.8}]
["Index Rinde",null,null,{"$f":"(Restholzpreise!CE21+1)*100","v":91.52542372881355},{"$f":"(Restholzpreise!CF21+1)*100","v":94.915254237288124},{"$f":"(Restholzpreise!CG21+1)*100","v":100},{"$f":"(Restholzpreise!CH21+1)*100","v":98.305084745762713},{"$f":"(Restholzpreise!CI21+1)*100","v":100},{"$f":"(Restholzpreise!CJ21+1)*100","v":98.305084745762713}]
[]
[]
[]
["Sortiment",null,"Unité"," Janv.-Fév."," Mars-Avr."," Mai-Juin"," Juill.-Août"," Sept.-Oct."," Nov.-Déc."]
["Plaquettes","En écorce, dép. usine","[Fr./m3 v]",{"$f":"D44","v":12.7},{"$f":"E44","v":12.6},13,11.1,11.3,{"$f":"I44","v":10}]
[null,"Sans écorce, dép. usine","[Fr./m3 v]",{"$f":"D45","v":13.4},13.6,13.3,12.2,11.5,11.7]
[null,"Sans écorce, franco","[Fr./t atro]",131.19999999999999,126.3,129.19999999999999,128.30000000000001,129,126.2]
["plaqu. Énergétiques","Franco client","[Fr./m3 v]",25.7,24.3,24.1,23.8,24.6,22.7]
["Index Hackschnitzel (ohne Brennschnitzel)",null,null,{"$f":"D48","v":81.571346701997939},81.583822411756628,81.22450355598221,74.97850608933382,72.593265531524608,71.676066079483547]
["Couen./Délignures","Départ usine","[Fr./m3 a]",{"$f":"D49","v":16.7},16.899999999999999,17,16.899999999999999,16.7,16.600000000000001]
[null,"Franco usine","[Fr./t atro]",99,99.2,99.8,98.8,98.7,99.8]
["Index Schwarten/Spreissel",null,null,{"$f":"D51","v":102.02280912364947},102.56822729091635,103.18407362945177,102.29371748699478,101.81692677070828,102.36774709883953]
["Sciure","Départ usine","[Fr./m3 v]",{"$f":"D52","v":12.6},12.8,12,10.9,10.9,11.2]
[null,"Aspiré, départ usine","[Fr./m3 v]",5.4,4.5999999999999996,4.7,4.3,4.7,4.8]
["Index Sägespäne",null,null,{"$f":"D54","v":91.509316770186331},92.329192546583869,86.83540372670808,78.897515527950304,79.183229813664596,81.341614906832277]
["Copeaux","Départ usine","[Fr./m3 v]",{"$f":"D55","v":9.1},9,8.6999999999999993,8.3000000000000007,8.4,8.3000000000000007]
[null,"Aspiré, départ usine","[Fr./m3 v]",4.9000000000000004,4.9000000000000004,4.0999999999999996,4.3,4.5999999999999996,4.7]
["Index Hobelspäne",null,null,{"$f":"D57","v":90.331818181818178},89.681818181818187,82.640909090909091,81.313636363636363,83.872727272727275,83.859090909090909]
["Écorce","Départ usine","[Fr./m3 v]",{"$f":"D58","v":5.4},5.6,5.9,5.8,5.9,5.8]
["Index Rinde",null,null,{"$f":"D59","v":91.52542372881355},94.915254237288124,100,98.305084745762713,100,98.305084745762713]

{"sheet":"Grafik","index":4,"n_rows":49,"n_cols":2,"rows_kept":49,"cut":false,"hidden":false,"merged":[]}
[]
[]
[]
[]
[]
[]
[]
[null,"Fichte / Epicéa L1 3B"]
[]
[]
[null,"Fichte / Epicéa L1 3C"]
[null,"Tanne / Sapin L1 3C"]
[]
[null,"Fichte / Epicéa D"]
[]
[]
[]
[]
[]
[]
[null,"Konstruktionsholz"]
[null,"Bois de charpente s.l."]
[]
[]
[null,"BSH-Lamellen N"]
[null,"Lames BLC N"]
[]
[null,"Verpackungskantholz"]
[null,"Carrelets d'emballage"]
[]
[null,"Palettenbretter"]
[null,"Planches pour palettes"]
[]
[]
[]
[]
[]
[]
[]
[]
[null,"Hackschnitzel ohne Rinde"]
[null,"Plaquettes sans écorce"]
[]
[]
[]
[]
[null,"Schwarten/Spreissel"]
[null,"Couenneaux/délignures"]
[null,"Sägespäne / Sciures"]